Workbook

Sheet 電気料金シミュレーション
B2: 電気料金シミュレーション
B4: ＜手順＞
B5: ① お客さまのご契約種別をリストよりご選択ください。
B6: ② お客さまのご契約容量(ご契約電力)をリストよりご選択ください。
B7: なお、ご契約電流がA表記のお客さまは、１/10した値をご選択ください（例：30Aの場合、３kVA）。
B8: ③ お客さまの電気のご使用量をご入力ください。ご使用量が０kWhの場合、基本料金は半額で算定いたします。
B10: ご契約種別
B11: ご契約容量 | E11: kVA または kW
B14: ＜試算結果＞
B16: ご使用年月 | C16: ご使用量 | E16: 北陸電力 | H16: (参考)
E17: 現在 | F17: 11月1日見直し後 | G17: 影響額 | H17: 東電EP見直し後
C18: kWh | E18: 円 | H18: 円
B19: ='電気料金シミュレーション(編集用)'!B14 -> 11月 | E19: ='電気料金シミュレーション(編集用)'!E14 | F19: ='電気料金シミュレーション(編集用)'!F14 | G19: ='電気料金シミュレーション(編集用)'!G14 | H19: ='電気料金シミュレーション(編集用)'!H14
B20: ='電気料金シミュレーション(編集用)'!B15 -> 10月 | E20: ='電気料金シミュレーション(編集用)'!E15 | F20: ='電気料金シミュレーション(編集用)'!F15 | G20: ='電気料金シミュレーション(編集用)'!G15 | H20: ='電気料金シミュレーション(編集用)'!H15
B21: ='電気料金シミュレーション(編集用)'!B16 -> ９月 | E21: ='電気料金シミュレーション(編集用)'!E16 | F21: ='電気料金シミュレーション(編集用)'!F16 | G21: ='電気料金シミュレーション(編集用)'!G16 | H21: ='電気料金シミュレーション(編集用)'!H16
B22: ='電気料金シミュレーション(編集用)'!B17 -> ８月 | E22: ='電気料金シミュレーション(編集用)'!E17 | F22: ='電気料金シミュレーション(編集用)'!F17 | G22: ='電気料金シミュレーション(編集用)'!G17 | H22: ='電気料金シミュレーション(編集用)'!H17
B23: ='電気料金シミュレーション(編集用)'!B18 -> ７月 | E23: ='電気料金シミュレーション(編集用)'!E18 | F23: ='電気料金シミュレーション(編集用)'!F18 | G23: ='電気料金シミュレーション(編集用)'!G18 | H23: ='電気料金シミュレーション(編集用)'!H18
B24: ='電気料金シミュレーション(編集用)'!B19 -> ６月 | E24: ='電気料金シミュレーション(編集用)'!E19 | F24: ='電気料金シミュレーション(編集用)'!F19 | G24: ='電気料金シミュレーション(編集用)'!G19 | H24: ='電気料金シミュレーション(編集用)'!H19
B25: ='電気料金シミュレーション(編集用)'!B20 -> ５月 | E25: ='電気料金シミュレーション(編集用)'!E20 | F25: ='電気料金シミュレーション(編集用)'!F20 | G25: ='電気料金シミュレーション(編集用)'!G20 | H25: ='電気料金シミュレーション(編集用)'!H20
B26: ='電気料金シミュレーション(編集用)'!B21 -> ４月 | E26: ='電気料金シミュレーション(編集用)'!E21 | F26: ='電気料金シミュレーション(編集用)'!F21 | G26: ='電気料金シミュレーション(編集用)'!G21 | H26: ='電気料金シミュレーション(編集用)'!H21
B27: ='電気料金シミュレーション(編集用)'!B22 -> ３月 | E27: ='電気料金シミュレーション(編集用)'!E22 | F27: ='電気料金シミュレーション(編集用)'!F22 | G27: ='電気料金シミュレーション(編集用)'!G22 | H27: ='電気料金シミュレーション(編集用)'!H22
B28: ='電気料金シミュレーション(編集用)'!B23 -> ２月 | E28: ='電気料金シミュレーション(編集用)'!E23 | F28: ='電気料金シミュレーション(編集用)'!F23 | G28: ='電気料金シミュレーション(編集用)'!G23 | H28: ='電気料金シミュレーション(編集用)'!H23
B29: ='電気料金シミュレーション(編集用)'!B24 -> １月 | E29: ='電気料金シミュレーション(編集用)'!E24 | F29: ='電気料金シミュレーション(編集用)'!F24 | G29: ='電気料金シミュレーション(編集用)'!G24 | H29: ='電気料金シミュレーション(編集用)'!H24
B30: ='電気料金シミュレーション(編集用)'!B25 -> 12月 | E30: ='電気料金シミュレーション(編集用)'!E25 | F30: ='電気料金シミュレーション(編集用)'!F25 | G30: ='電気料金シミュレーション(編集用)'!G25 | H30: ='電気料金シミュレーション(編集用)'!H25
B31: 計 | C31: =SUM(C19:D30) -> 0 | E31: =SUM(E19:E30) -> 0 | F31: =SUM(F19:F30) -> 0 | G31: =SUM(G19:G30) -> 0 | H31: =SUM(H19:H30) -> 0
B33: ■ 現在および見直し後の電気料金は、「消費税相当額」を含みます。
B34: ■ 現在および見直し後の電気料金の「再生可能エネルギー発電促進賦課金※1」、「燃料費等調整額※2」は直近1年間の実績により試算しております。
B35: ※1 5月から11月は4.18円/kWh、12月から4月は3.98円/kWhにて試算しております。
B36: ※2 国の電気・ガス料金支援による値引き単価を含んでおります。
B37: ■ ご契約種別が低圧電力の場合、7月～9月は夏季料金単価で試算しております（検針日による日割計算は実施しておりません）。
B38: ■ 本試算結果は目安の金額であり、実際のご負担額は、ご使用状況や燃料費等調整額等により変動いたします。

Sheet 電気料金シミュレーション(編集用)
B2: 電気料金シミュレーション
B5: ご契約種別 | C5: =電気料金シミュレーション!C10 -> 0
B6: ご契約容量 | C6: =電気料金シミュレーション!C11 -> 0 | E6: kVA または kW
B9: ＜試算結果＞
B11: ご使用年月 | C11: ご使用量 | E11: 北陸電力 | H11: (参考)
E12: 現在 | F12: 11月1日見直し後 | G12: 影響額 | H12: 東電EP見直し後
C13: kWh | E13: 円 | H13: 円
B14: =単価表!E17 -> 11月 | C14: =電気料金シミュレーション!C19 -> 0 | E14: {=_xlfn.SWITCH($C$5, "北陸かがやき契約",計算用!M5, "北陸Bizかがやき契約",計算用!M41, "ANAマイレージ契約",計算用!M23, "低圧電力",計算用!M59, "低圧電力[神通]",計算用!#REF!, "低圧電力[九頭竜]",計算用!#REF!, "従業員メニューA",計算用!#REF!, "従業員メニューB",計算用!#REF!, "")} | F14: {=_xlfn.SWITCH($C$5, "北陸かがやき契約",計算用!R5, "北陸Bizかがやき契約",計算用!R41, "ANAマイレージ契約",計算用!R23, "低圧電力",計算用!R59, "低圧電力[神通]",計算用!#REF!, "低圧電力[九頭竜]",計算用!#REF!, "従業員メニューA",計算用!#REF!, "従業員メニューB",計算用!#REF!, "")} | G14: {=_xlfn.SWITCH($C$5, "北陸かがやき契約",計算用!S5, "北陸Bizかがやき契約",計算用!S41, "ANAマイレージ契約",計算用!S23, "低圧電力",計算用!S59, "低圧電力[神通]",計算用!#REF!, "低圧電力[九頭竜]",計算用!#REF!, "従業員メニューA",計算用!#REF!, "従業員メニューB",計算用!#REF!, "")} | H14: {=IF(AND($C$5="北陸かがやき契約",$C$6>=7),計算用!X41,IF(AND($C$5="北陸Bizかがやき契約",$C$6<7),計算用!X5,IF(AND($C$5="ANAマイレージ契約",$C$6>=7),計算用!X41,_xlfn.SWITCH($C$5,"北陸かがやき契約",計算用!X5,"北陸Bizかがやき契約",計算用!X41,"ANAマイレージ契約",計算用!X23,"低圧電力",計算用!X59,"低圧電力[神通]",計算用!#REF!,"低圧電力[九頭竜]",計算用!#REF!,"従業員メニューA",計算用!#REF!,"従業員メニューB",計算用!#REF!,""))))}
B15: =単価表!E18 -> 10月 | C15: =電気料金シミュレーション!C20 -> 0 | E15: {=_xlfn.SWITCH($C$5, "北陸かがやき契約",計算用!M6, "北陸Bizかがやき契約",計算用!M42, "ANAマイレージ契約",計算用!M24, "低圧電力",計算用!M60, "低圧電力[神通]",計算用!#REF!, "低圧電力[九頭竜]",計算用!#REF!, "従業員メニューA",計算用!#REF!, "従業員メニューB",計算用!#REF!, "")} | F15: {=_xlfn.SWITCH($C$5, "北陸かがやき契約",計算用!R6, "北陸Bizかがやき契約",計算用!R42, "ANAマイレージ契約",計算用!R24, "低圧電力",計算用!R60, "低圧電力[神通]",計算用!#REF!, "低圧電力[九頭竜]",計算用!#REF!, "従業員メニューA",計算用!#REF!, "従業員メニューB",計算用!#REF!, "")} | G15: {=_xlfn.SWITCH($C$5, "北陸かがやき契約",計算用!S6, "北陸Bizかがやき契約",計算用!S42, "ANAマイレージ契約",計算用!S24, "低圧電力",計算用!S60, "低圧電力[神通]",計算用!#REF!, "低圧電力[九頭竜]",計算用!#REF!, "従業員メニューA",計算用!#REF!, "従業員メニューB",計算用!#REF!, "")} | H15: {=IF(AND($C$5="北陸かがやき契約",$C$6>=7),計算用!X42,IF(AND($C$5="北陸Bizかがやき契約",$C$6<7),計算用!X6,IF(AND($C$5="ANAマイレージ契約",$C$6>=7),計算用!X42,_xlfn.SWITCH($C$5,"北陸かがやき契約",計算用!X6,"北陸Bizかがやき契約",計算用!X42,"ANAマイレージ契約",計算用!X24,"低圧電力",計算用!X60,"低圧電力[神通]",計算用!#REF!,"低圧電力[九頭竜]",計算用!#REF!,"従業員メニューA",計算用!#REF!,"従業員メニューB",計算用!#REF!,""))))}
B16: =単価表!E19 -> ９月 | C16: =電気料金シミュレーション!C21 -> 0 | E16: {=_xlfn.SWITCH($C$5, "北陸かがやき契約",計算用!M7, "北陸Bizかがやき契約",計算用!M43, "ANAマイレージ契約",計算用!M25, "低圧電力",計算用!M61, "低圧電力[神通]",計算用!#REF!, "低圧電力[九頭竜]",計算用!#REF!, "従業員メニューA",計算用!#REF!, "従業員メニューB",計算用!#REF!, "")} | F16: {=_xlfn.SWITCH($C$5, "北陸かがやき契約",計算用!R7, "北陸Bizかがやき契約",計算用!R43, "ANAマイレージ契約",計算用!R25, "低圧電力",計算用!R61, "低圧電力[神通]",計算用!#REF!, "低圧電力[九頭竜]",計算用!#REF!, "従業員メニューA",計算用!#REF!, "従業員メニューB",計算用!#REF!, "")} | G16: {=_xlfn.SWITCH($C$5, "北陸かがやき契約",計算用!S7, "北陸Bizかがやき契約",計算用!S43, "ANAマイレージ契約",計算用!S25, "低圧電力",計算用!S61, "低圧電力[神通]",計算用!#REF!, "低圧電力[九頭竜]",計算用!#REF!, "従業員メニューA",計算用!#REF!, "従業員メニューB",計算用!#REF!, "")} | H16: {=IF(AND($C$5="北陸かがやき契約",$C$6>=7),計算用!X43,IF(AND($C$5="北陸Bizかがやき契約",$C$6<7),計算用!X7,IF(AND($C$5="ANAマイレージ契約",$C$6>=7),計算用!X43,_xlfn.SWITCH($C$5,"北陸かがやき契約",計算用!X7,"北陸Bizかがやき契約",計算用!X43,"ANAマイレージ契約",計算用!X25,"低圧電力",計算用!X61,"低圧電力[神通]",計算用!#REF!,"低圧電力[九頭竜]",計算用!#REF!,"従業員メニューA",計算用!#REF!,"従業員メニューB",計算用!#REF!,""))))}
B17: =単価表!E20 -> ８月 | C17: =電気料金シミュレーション!C22 -> 0 | E17: {=_xlfn.SWITCH($C$5, "北陸かがやき契約",計算用!M8, "北陸Bizかがやき契約",計算用!M44, "ANAマイレージ契約",計算用!M26, "低圧電力",計算用!M62, "低圧電力[神通]",計算用!#REF!, "低圧電力[九頭竜]",計算用!#REF!, "従業員メニューA",計算用!#REF!, "従業員メニューB",計算用!#REF!, "")} | F17: {=_xlfn.SWITCH($C$5, "北陸かがやき契約",計算用!R8, "北陸Bizかがやき契約",計算用!R44, "ANAマイレージ契約",計算用!R26, "低圧電力",計算用!R62, "低圧電力[神通]",計算用!#REF!, "低圧電力[九頭竜]",計算用!#REF!, "従業員メニューA",計算用!#REF!, "従業員メニューB",計算用!#REF!, "")} | G17: {=_xlfn.SWITCH($C$5, "北陸かがやき契約",計算用!S8, "北陸Bizかがやき契約",計算用!S44, "ANAマイレージ契約",計算用!S26, "低圧電力",計算用!S62, "低圧電力[神通]",計算用!#REF!, "低圧電力[九頭竜]",計算用!#REF!, "従業員メニューA",計算用!#REF!, "従業員メニューB",計算用!#REF!, "")} | H17: {=IF(AND($C$5="北陸かがやき契約",$C$6>=7),計算用!X44,IF(AND($C$5="北陸Bizかがやき契約",$C$6<7),計算用!X8,IF(AND($C$5="ANAマイレージ契約",$C$6>=7),計算用!X44,_xlfn.SWITCH($C$5,"北陸かがやき契約",計算用!X8,"北陸Bizかがやき契約",計算用!X44,"ANAマイレージ契約",計算用!X26,"低圧電力",計算用!X62,"低圧電力[神通]",計算用!#REF!,"低圧電力[九頭竜]",計算用!#REF!,"従業員メニューA",計算用!#REF!,"従業員メニューB",計算用!#REF!,""))))}
B18: =単価表!E21 -> ７月 | C18: =電気料金シミュレーション!C23 -> 0 | E18: {=_xlfn.SWITCH($C$5, "北陸かがやき契約",計算用!M9, "北陸Bizかがやき契約",計算用!M45, "ANAマイレージ契約",計算用!M27, "低圧電力",計算用!M63, "低圧電力[神通]",計算用!#REF!, "低圧電力[九頭竜]",計算用!#REF!, "従業員メニューA",計算用!#REF!, "従業員メニューB",計算用!#REF!, "")} | F18: {=_xlfn.SWITCH($C$5, "北陸かがやき契約",計算用!R9, "北陸Bizかがやき契約",計算用!R45, "ANAマイレージ契約",計算用!R27, "低圧電力",計算用!R63, "低圧電力[神通]",計算用!#REF!, "低圧電力[九頭竜]",計算用!#REF!, "従業員メニューA",計算用!#REF!, "従業員メニューB",計算用!#REF!, "")} | G18: {=_xlfn.SWITCH($C$5, "北陸かがやき契約",計算用!S9, "北陸Bizかがやき契約",計算用!S45, "ANAマイレージ契約",計算用!S27, "低圧電力",計算用!S63, "低圧電力[神通]",計算用!#REF!, "低圧電力[九頭竜]",計算用!#REF!, "従業員メニューA",計算用!#REF!, "従業員メニューB",計算用!#REF!, "")} | H18: {=IF(AND($C$5="北陸かがやき契約",$C$6>=7),計算用!X45,IF(AND($C$5="北陸Bizかがやき契約",$C$6<7),計算用!X9,IF(AND($C$5="ANAマイレージ契約",$C$6>=7),計算用!X45,_xlfn.SWITCH($C$5,"北陸かがやき契約",計算用!X9,"北陸Bizかがやき契約",計算用!X45,"ANAマイレージ契約",計算用!X27,"低圧電力",計算用!X63,"低圧電力[神通]",計算用!#REF!,"低圧電力[九頭竜]",計算用!#REF!,"従業員メニューA",計算用!#REF!,"従業員メニューB",計算用!#REF!,""))))}
B19: =単価表!E22 -> ６月 | C19: =電気料金シミュレーション!C24 -> 0 | E19: {=_xlfn.SWITCH($C$5, "北陸かがやき契約",計算用!M10, "北陸Bizかがやき契約",計算用!M46, "ANAマイレージ契約",計算用!M28, "低圧電力",計算用!M64, "低圧電力[神通]",計算用!#REF!, "低圧電力[九頭竜]",計算用!#REF!, "従業員メニューA",計算用!#REF!, "従業員メニューB",計算用!#REF!, "")} | F19: {=_xlfn.SWITCH($C$5, "北陸かがやき契約",計算用!R10, "北陸Bizかがやき契約",計算用!R46, "ANAマイレージ契約",計算用!R28, "低圧電力",計算用!R64, "低圧電力[神通]",計算用!#REF!, "低圧電力[九頭竜]",計算用!#REF!, "従業員メニューA",計算用!#REF!, "従業員メニューB",計算用!#REF!, "")} | G19: {=_xlfn.SWITCH($C$5, "北陸かがやき契約",計算用!S10, "北陸Bizかがやき契約",計算用!S46, "ANAマイレージ契約",計算用!S28, "低圧電力",計算用!S64, "低圧電力[神通]",計算用!#REF!, "低圧電力[九頭竜]",計算用!#REF!, "従業員メニューA",計算用!#REF!, "従業員メニューB",計算用!#REF!, "")} | H19: {=IF(AND($C$5="北陸かがやき契約",$C$6>=7),計算用!X46,IF(AND($C$5="北陸Bizかがやき契約",$C$6<7),計算用!X10,IF(AND($C$5="ANAマイレージ契約",$C$6>=7),計算用!X46,_xlfn.SWITCH($C$5,"北陸かがやき契約",計算用!X10,"北陸Bizかがやき契約",計算用!X46,"ANAマイレージ契約",計算用!X28,"低圧電力",計算用!X64,"低圧電力[神通]",計算用!#REF!,"低圧電力[九頭竜]",計算用!#REF!,"従業員メニューA",計算用!#REF!,"従業員メニューB",計算用!#REF!,""))))}
B20: =単価表!E23 -> ５月 | C20: =電気料金シミュレーション!C25 -> 0 | E20: {=_xlfn.SWITCH($C$5, "北陸かがやき契約",計算用!M11, "北陸Bizかがやき契約",計算用!M47, "ANAマイレージ契約",計算用!M29, "低圧電力",計算用!M65, "低圧電力[神通]",計算用!#REF!, "低圧電力[九頭竜]",計算用!#REF!, "従業員メニューA",計算用!#REF!, "従業員メニューB",計算用!#REF!, "")} | F20: {=_xlfn.SWITCH($C$5, "北陸かがやき契約",計算用!R11, "北陸Bizかがやき契約",計算用!R47, "ANAマイレージ契約",計算用!R29, "低圧電力",計算用!R65, "低圧電力[神通]",計算用!#REF!, "低圧電力[九頭竜]",計算用!#REF!, "従業員メニューA",計算用!#REF!, "従業員メニューB",計算用!#REF!, "")} | G20: {=_xlfn.SWITCH($C$5, "北陸かがやき契約",計算用!S11, "北陸Bizかがやき契約",計算用!S47, "ANAマイレージ契約",計算用!S29, "低圧電力",計算用!S65, "低圧電力[神通]",計算用!#REF!, "低圧電力[九頭竜]",計算用!#REF!, "従業員メニューA",計算用!#REF!, "従業員メニューB",計算用!#REF!, "")} | H20: {=IF(AND($C$5="北陸かがやき契約",$C$6>=7),計算用!X47,IF(AND($C$5="北陸Bizかがやき契約",$C$6<7),計算用!X11,IF(AND($C$5="ANAマイレージ契約",$C$6>=7),計算用!X47,_xlfn.SWITCH($C$5,"北陸かがやき契約",計算用!X11,"北陸Bizかがやき契約",計算用!X47,"ANAマイレージ契約",計算用!X29,"低圧電力",計算用!X65,"低圧電力[神通]",計算用!#REF!,"低圧電力[九頭竜]",計算用!#REF!,"従業員メニューA",計算用!#REF!,"従業員メニューB",計算用!#REF!,""))))}
B21: =単価表!E24 -> ４月 | C21: =電気料金シミュレーション!C26 -> 0 | E21: {=_xlfn.SWITCH($C$5, "北陸かがやき契約",計算用!M12, "北陸Bizかがやき契約",計算用!M48, "ANAマイレージ契約",計算用!M30, "低圧電力",計算用!M66, "低圧電力[神通]",計算用!#REF!, "低圧電力[九頭竜]",計算用!#REF!, "従業員メニューA",計算用!#REF!, "従業員メニューB",計算用!#REF!, "")} | F21: {=_xlfn.SWITCH($C$5, "北陸かがやき契約",計算用!R12, "北陸Bizかがやき契約",計算用!R48, "ANAマイレージ契約",計算用!R30, "低圧電力",計算用!R66, "低圧電力[神通]",計算用!#REF!, "低圧電力[九頭竜]",計算用!#REF!, "従業員メニューA",計算用!#REF!, "従業員メニューB",計算用!#REF!, "")} | G21: {=_xlfn.SWITCH($C$5, "北陸かがやき契約",計算用!S12, "北陸Bizかがやき契約",計算用!S48, "ANAマイレージ契約",計算用!S30, "低圧電力",計算用!S66, "低圧電力[神通]",計算用!#REF!, "低圧電力[九頭竜]",計算用!#REF!, "従業員メニューA",計算用!#REF!, "従業員メニューB",計算用!#REF!, "")} | H21: {=IF(AND($C$5="北陸かがやき契約",$C$6>=7),計算用!X48,IF(AND($C$5="北陸Bizかがやき契約",$C$6<7),計算用!X12,IF(AND($C$5="ANAマイレージ契約",$C$6>=7),計算用!X48,_xlfn.SWITCH($C$5,"北陸かがやき契約",計算用!X12,"北陸Bizかがやき契約",計算用!X48,"ANAマイレージ契約",計算用!X30,"低圧電力",計算用!X66,"低圧電力[神通]",計算用!#REF!,"低圧電力[九頭竜]",計算用!#REF!,"従業員メニューA",計算用!#REF!,"従業員メニューB",計算用!#REF!,""))))}
B22: =単価表!E25 -> ３月 | C22: =電気料金シミュレーション!C27 -> 0 | E22: {=_xlfn.SWITCH($C$5, "北陸かがやき契約",計算用!M13, "北陸Bizかがやき契約",計算用!M49, "ANAマイレージ契約",計算用!M31, "低圧電力",計算用!M67, "低圧電力[神通]",計算用!#REF!, "低圧電力[九頭竜]",計算用!#REF!, "従業員メニューA",計算用!#REF!, "従業員メニューB",計算用!#REF!, "")} | F22: {=_xlfn.SWITCH($C$5, "北陸かがやき契約",計算用!R13, "北陸Bizかがやき契約",計算用!R49, "ANAマイレージ契約",計算用!R31, "低圧電力",計算用!R67, "低圧電力[神通]",計算用!#REF!, "低圧電力[九頭竜]",計算用!#REF!, "従業員メニューA",計算用!#REF!, "従業員メニューB",計算用!#REF!, "")} | G22: {=_xlfn.SWITCH($C$5, "北陸かがやき契約",計算用!S13, "北陸Bizかがやき契約",計算用!S49, "ANAマイレージ契約",計算用!S31, "低圧電力",計算用!S67, "低圧電力[神通]",計算用!#REF!, "低圧電力[九頭竜]",計算用!#REF!, "従業員メニューA",計算用!#REF!, "従業員メニューB",計算用!#REF!, "")} | H22: {=IF(AND($C$5="北陸かがやき契約",$C$6>=7),計算用!X49,IF(AND($C$5="北陸Bizかがやき契約",$C$6<7),計算用!X13,IF(AND($C$5="ANAマイレージ契約",$C$6>=7),計算用!X49,_xlfn.SWITCH($C$5,"北陸かがやき契約",計算用!X13,"北陸Bizかがやき契約",計算用!X49,"ANAマイレージ契約",計算用!X31,"低圧電力",計算用!X67,"低圧電力[神通]",計算用!#REF!,"低圧電力[九頭竜]",計算用!#REF!,"従業員メニューA",計算用!#REF!,"従業員メニューB",計算用!#REF!,""))))}
B23: =単価表!E26 -> ２月 | C23: =電気料金シミュレーション!C28 -> 0 | E23: {=_xlfn.SWITCH($C$5, "北陸かがやき契約",計算用!M14, "北陸Bizかがやき契約",計算用!M50, "ANAマイレージ契約",計算用!M32, "低圧電力",計算用!M68, "低圧電力[神通]",計算用!#REF!, "低圧電力[九頭竜]",計算用!#REF!, "従業員メニューA",計算用!#REF!, "従業員メニューB",計算用!#REF!, "")} | F23: {=_xlfn.SWITCH($C$5, "北陸かがやき契約",計算用!R14, "北陸Bizかがやき契約",計算用!R50, "ANAマイレージ契約",計算用!R32, "低圧電力",計算用!R68, "低圧電力[神通]",計算用!#REF!, "低圧電力[九頭竜]",計算用!#REF!, "従業員メニューA",計算用!#REF!, "従業員メニューB",計算用!#REF!, "")} | G23: {=_xlfn.SWITCH($C$5, "北陸かがやき契約",計算用!S14, "北陸Bizかがやき契約",計算用!S50, "ANAマイレージ契約",計算用!S32, "低圧電力",計算用!S68, "低圧電力[神通]",計算用!#REF!, "低圧電力[九頭竜]",計算用!#REF!, "従業員メニューA",計算用!#REF!, "従業員メニューB",計算用!#REF!, "")} | H23: {=IF(AND($C$5="北陸かがやき契約",$C$6>=7),計算用!X50,IF(AND($C$5="北陸Bizかがやき契約",$C$6<7),計算用!X14,IF(AND($C$5="ANAマイレージ契約",$C$6>=7),計算用!X50,_xlfn.SWITCH($C$5,"北陸かがやき契約",計算用!X14,"北陸Bizかがやき契約",計算用!X50,"ANAマイレージ契約",計算用!X32,"低圧電力",計算用!X68,"低圧電力[神通]",計算用!#REF!,"低圧電力[九頭竜]",計算用!#REF!,"従業員メニューA",計算用!#REF!,"従業員メニューB",計算用!#REF!,""))))}
B24: =単価表!E27 -> １月 | C24: =電気料金シミュレーション!C29 -> 0 | E24: {=_xlfn.SWITCH($C$5, "北陸かがやき契約",計算用!M15, "北陸Bizかがやき契約",計算用!M51, "ANAマイレージ契約",計算用!M33, "低圧電力",計算用!M69, "低圧電力[神通]",計算用!#REF!, "低圧電力[九頭竜]",計算用!#REF!, "従業員メニューA",計算用!#REF!, "従業員メニューB",計算用!#REF!, "")} | F24: {=_xlfn.SWITCH($C$5, "北陸かがやき契約",計算用!R15, "北陸Bizかがやき契約",計算用!R51, "ANAマイレージ契約",計算用!R33, "低圧電力",計算用!R69, "低圧電力[神通]",計算用!#REF!, "低圧電力[九頭竜]",計算用!#REF!, "従業員メニューA",計算用!#REF!, "従業員メニューB",計算用!#REF!, "")} | G24: {=_xlfn.SWITCH($C$5, "北陸かがやき契約",計算用!S15, "北陸Bizかがやき契約",計算用!S51, "ANAマイレージ契約",計算用!S33, "低圧電力",計算用!S69, "低圧電力[神通]",計算用!#REF!, "低圧電力[九頭竜]",計算用!#REF!, "従業員メニューA",計算用!#REF!, "従業員メニューB",計算用!#REF!, "")} | H24: {=IF(AND($C$5="北陸かがやき契約",$C$6>=7),計算用!X51,IF(AND($C$5="北陸Bizかがやき契約",$C$6<7),計算用!X15,IF(AND($C$5="ANAマイレージ契約",$C$6>=7),計算用!X51,_xlfn.SWITCH($C$5,"北陸かがやき契約",計算用!X15,"北陸Bizかがやき契約",計算用!X51,"ANAマイレージ契約",計算用!X33,"低圧電力",計算用!X69,"低圧電力[神通]",計算用!#REF!,"低圧電力[九頭竜]",計算用!#REF!,"従業員メニューA",計算用!#REF!,"従業員メニューB",計算用!#REF!,""))))}
B25: =単価表!E28 -> 12月 | C25: =電気料金シミュレーション!C30 -> 0 | E25: {=_xlfn.SWITCH($C$5, "北陸かがやき契約",計算用!M16, "北陸Bizかがやき契約",計算用!M52, "ANAマイレージ契約",計算用!M34, "低圧電力",計算用!M70, "低圧電力[神通]",計算用!#REF!, "低圧電力[九頭竜]",計算用!#REF!, "従業員メニューA",計算用!#REF!, "従業員メニューB",計算用!#REF!, "")} | F25: {=_xlfn.SWITCH($C$5, "北陸かがやき契約",計算用!R16, "北陸Bizかがやき契約",計算用!R52, "ANAマイレージ契約",計算用!R34, "低圧電力",計算用!R70, "低圧電力[神通]",計算用!#REF!, "低圧電力[九頭竜]",計算用!#REF!, "従業員メニューA",計算用!#REF!, "従業員メニューB",計算用!#REF!, "")} | G25: {=_xlfn.SWITCH($C$5, "北陸かがやき契約",計算用!S16, "北陸Bizかがやき契約",計算用!S52, "ANAマイレージ契約",計算用!S34, "低圧電力",計算用!S70, "低圧電力[神通]",計算用!#REF!, "低圧電力[九頭竜]",計算用!#REF!, "従業員メニューA",計算用!#REF!, "従業員メニューB",計算用!#REF!, "")} | H25: {=IF(AND($C$5="北陸かがやき契約",$C$6>=7),計算用!X52,IF(AND($C$5="北陸Bizかがやき契約",$C$6<7),計算用!X16,IF(AND($C$5="ANAマイレージ契約",$C$6>=7),計算用!X52,_xlfn.SWITCH($C$5,"北陸かがやき契約",計算用!X16,"北陸Bizかがやき契約",計算用!X52,"ANAマイレージ契約",計算用!X34,"低圧電力",計算用!X70,"低圧電力[神通]",計算用!#REF!,"低圧電力[九頭竜]",計算用!#REF!,"従業員メニューA",計算用!#REF!,"従業員メニューB",計算用!#REF!,""))))}
B26: 計 | C26: =SUM(C14:D25) -> 0 | E26: =SUM(E14:E25) -> 0 | F26: =SUM(F14:F25) -> 0 | G26: =SUM(G14:G25) -> 0 | H26: =SUM(H14:H25) -> 0

Sheet 単価表
B2: 契約容量 | E2: メニュー別単価 | F2: 北陸かがやき契約 | H2: ANAマイレージ契約 | J2: 北陸Bizかがやき契約 | P2: 東電EP[従量電灯B] | R2: 東電EP[従量電灯C] | U2: メニュー一覧
B3: 1 | C3: kVA | E3: 区分 | F3: 改定前 | G3: 改定後 | H3: 改定前 | I3: 改定後 | J3: 改定前 | K3: 改定後 | P3: 改定前 | Q3: 改定後 | R3: 改定前 | S3: 改定後 | U3: 北陸かがやき契約
B4: 1.5 | C4: kVA | E4: 基本料金 | F4: 311.75 | G4: 392.06 | H4: 311.75 | I4: 392.06 | J4: 433.16 | K4: 513.47 | P4: 311.75 | Q4: 392.06 | R4: 311.75 | S4: 392.06 | U4: 北陸Bizかがやき契約
B5: 2 | C5: kVA | E5: ～120kWh | F5: 29.8 | G5: 29.85 | H5: 29.8 | I5: 29.85 | J5: 33.61 | K5: 33.66 | P5: 29.8 | Q5: 29.85 | R5: 29.8 | S5: 29.85 | U5: ANAマイレージ契約
B6: 3 | C6: kVA | E6: 120～300kWh | F6: 35.02 | G6: 35.07 | H6: 36.04 | I6: 36.09 | J6: 33.61 | K6: 33.66 | P6: 36.4 | Q6: 36.45 | R6: 36.4 | S6: 36.45 | U6: 低圧電力
B7: 4 | C7: kVA | E7: 300～400kWh | F7: 36.26 | G7: 36.31 | H7: 38.68 | I7: 38.73 | J7: 33.61 | K7: 33.66 | P7: 40.49 | Q7: 40.54 | R7: 40.49 | S7: 40.54
B8: 5 | C8: kVA | E8: 400kWh～ | F8: 39.03 | G8: 39.08 | H8: 38.68 | I8: 38.73 | J8: 33.61 | K8: 33.66 | P8: 40.49 | Q8: 40.54 | R8: 40.49 | S8: 40.54
B9: 6 | C9: kVA
B10: 7 | C10: kVA | E10: メニュー別単価 | F10: 低圧電力 | L10: 東電EP[低圧電力]
B11: 8 | C11: kVA | E11: 区分 | F11: 改定前 | G11: 改定後 | L11: 改定前 | M11: 改定後
B12: 9 | C12: kVA | E12: 基本料金 | F12: 1047.12 | G12: 1139.9 | L12: 1098.05 | M12: 1190.83
B13: 10 | C13: kVA | E13: 夏季 | F13: 27.85 | G13: 27.9 | L13: 27.14 | M13: 27.19
B14: 11 | C14: kVA | E14: 他季 | F14: 26.23 | G14: 26.28 | L14: 25.57 | M14: 25.62
B15: 12 | C15: kVA
B16: 13 | C16: kVA | E16: 燃調/再エネ | F16: 燃調 | G16: 再エネ
B17: 14 | C17: kVA | E17: 11月 | F17: -5.33 | G17: 4.18
B18: 15 | C18: kVA | E18: 10月 | F18: -9.3 | G18: 4.18
B19: 16 | C19: kVA | E19: ９月 | F19: -10.96 | G19: 4.18
B20: 17 | C20: kVA | E20: ８月 | F20: -10.27 | G20: 4.18
B21: 18 | C21: kVA | E21: ７月 | F21: -7.19 | G21: 4.18
B22: 19 | C22: kVA | E22: ６月 | F22: -7.3 | G22: 4.18
B23: 20 | C23: kVA | E23: ５月 | F23: -7.37 | G23: 4.18
B24: 21 | C24: kVA | E24: ４月 | F24: -8.93 | G24: 3.98
B25: 22 | C25: kVA | E25: ３月 | F25: -12.09 | G25: 3.98
B26: 23 | C26: kVA | E26: ２月 | F26: -12.22 | G26: 3.98
B27: 24 | C27: kVA | E27: １月 | F27: -7.72 | G27: 3.98
B28: 25 | C28: kVA | E28: 12月 | F28: -7.7 | G28: 3.98
B29: 26 | C29: kVA
B30: 27 | C30: kVA
B31: 28 | C31: kVA
B32: 29 | C32: kVA
B33: 30 | C33: kVA
B34: 31 | C34: kVA
B35: 32 | C35: kVA
B36: 33 | C36: kVA
B37: 34 | C37: kVA
B38: 35 | C38: kVA
B39: 36 | C39: kVA
B40: 37 | C40: kVA
... B53: 50 | C53: kVA

Sheet 計算用
C2: 使用年月 | D2: 使用量 | E2: 使用量内訳 | I2: 北陸電力 | T2: 東電EP[従量電灯B]
E3: 1段階 | F3: 2段階 | G3: 3段階 | H3: 4段階 | I3: 改定前 | N3: 11/1改定後 | S3: 影響額
I4: 基本料金 | J4: 使用量料金 | K4: 燃調 | L4: 再エネ | M4: 合計 | N4: 基本料金 | O4: 使用量料金 | P4: 燃調 | Q4: 再エネ | R4: 合計 | S4: 円 | T4: 基本料金 | U4: 使用量料金 | V4: 燃調 | W4: 再エネ | X4: 合計
B5: 北陸かがやき契約 | C5: =単価表!$E$17 -> 11月 | D5: =電気料金シミュレーション!$C$19 -> 0 | E5: =IF(D5<120,D5,120) -> 0 | F5: =IF(D5<120,0,IF(D5>300,180,D5-120)) -> 0 | G5: =IF(D5<300,0,IF(D5>400,100,D5-300)) -> 0 | H5: =IF(D5<400,0,D5-400) -> 0 | I5: =ROUND(IF(D5=0,電気料金シミュレーション!$C$11*単価表!$F$4/2,電気料金シミュレーション!$C$11*単価表!$F$4),2) -> 0 | J5: =ROUND(E5*単価表!$F$5+F5*単価表!$F$6+G5*単価表!$F$7+H5*単価表!$F$8,2) -> 0 | K5: =ROUND(D5*単価表!$F$17,2) -> 0 | L5: =ROUNDDOWN(D5*単価表!$G$17,0) -> 0 | M5: =ROUNDDOWN(SUM(I5:L5),0) -> 0 | N5: =ROUND(IF(D5=0,電気料金シミュレーション!$C$11*単価表!$G$4/2,電気料金シミュレーション!$C$11*単価表!$G$4),2) -> 0 | O5: =ROUND(E5*単価表!$G$5+F5*単価表!$G$6+G5*単価表!$G$7+H5*単価表!$G$8,2) -> 0 | P5: =ROUND(D5*単価表!$F$17,2) -> 0 | Q5: =ROUNDDOWN(D5*単価表!$G$17,0) -> 0 | R5: =ROUNDDOWN(SUM(N5:Q5),0) -> 0 | S5: =R5-M5 -> 0 | T5: =ROUND(IF(D5=0,電気料金シミュレーション!$C$11*単価表!$Q$4/2,電気料金シミュレーション!$C$11*単価表!$Q$4),2) -> 0 | U5: =ROUND(E5*単価表!$Q$5+F5*単価表!$Q$6+G5*単価表!$Q$7+H5*単価表!$Q$8,2) -> 0 | V5: =ROUND($D5*単価表!$F$17,2) -> 0 | W5: =ROUNDDOWN($D5*単価表!$G$17,0) -> 0 | X5: =ROUNDDOWN(SUM(T5:W5),0) -> 0
C6: =単価表!$E$18 -> 10月 | D6: =電気料金シミュレーション!$C$20 -> 0 | E6: =IF(D6<120,D6,120) -> 0 | F6: =IF(D6<120,0,IF(D6>300,180,D6-120)) -> 0 | G6: =IF(D6<300,0,IF(D6>400,100,D6-300)) -> 0 | H6: =IF(D6<400,0,D6-400) -> 0 | I6: =ROUND(IF(D6=0,電気料金シミュレーション!$C$11*単価表!$F$4/2,電気料金シミュレーション!$C$11*単価表!$F$4),2) -> 0 | J6: =ROUND(E6*単価表!$F$5+F6*単価表!$F$6+G6*単価表!$F$7+H6*単価表!$F$8,2) -> 0 | K6: =ROUND(D6*単価表!$F$18,2) -> 0 | L6: =ROUNDDOWN(D6*単価表!$G$18,0) -> 0 | M6: =ROUNDDOWN(SUM(I6:L6),0) -> 0 | N6: =ROUND(IF(D6=0,電気料金シミュレーション!$C$11*単価表!$G$4/2,電気料金シミュレーション!$C$11*単価表!$G$4),2) -> 0 | O6: =ROUND(E6*単価表!$G$5+F6*単価表!$G$6+G6*単価表!$G$7+H6*単価表!$G$8,2) -> 0 | P6: =ROUND(D6*単価表!$F$18,2) -> 0 | Q6: =ROUNDDOWN(D6*単価表!$G$18,0) -> 0 | R6: =ROUNDDOWN(SUM(N6:Q6),0) -> 0 | S6: =R6-M6 -> 0 | T6: =ROUND(IF(D6=0,電気料金シミュレーション!$C$11*単価表!$Q$4/2,電気料金シミュレーション!$C$11*単価表!$Q$4),2) -> 0 | U6: =ROUND(E6*単価表!$Q$5+F6*単価表!$Q$6+G6*単価表!$Q$7+H6*単価表!$Q$8,2) -> 0 | V6: =ROUND($D6*単価表!$F$18,2) -> 0 | W6: =ROUNDDOWN($D6*単価表!$G$18,0) -> 0 | X6: =ROUNDDOWN(SUM(T6:W6),0) -> 0
C7: =単価表!$E$19 -> ９月 | D7: =電気料金シミュレーション!$C$21 -> 0 | E7: =IF(D7<120,D7,120) -> 0 | F7: =IF(D7<120,0,IF(D7>300,180,D7-120)) -> 0 | G7: =IF(D7<300,0,IF(D7>400,100,D7-300)) -> 0 | H7: =IF(D7<400,0,D7-400) -> 0 | I7: =ROUND(IF(D7=0,電気料金シミュレーション!$C$11*単価表!$F$4/2,電気料金シミュレーション!$C$11*単価表!$F$4),2) -> 0 | J7: =ROUND(E7*単価表!$F$5+F7*単価表!$F$6+G7*単価表!$F$7+H7*単価表!$F$8,2) -> 0 | K7: =ROUND(D7*単価表!$F$19,2) -> 0 | L7: =ROUNDDOWN(D7*単価表!$G$19,0) -> 0 | M7: =ROUNDDOWN(SUM(I7:L7),0) -> 0 | N7: =ROUND(IF(D7=0,電気料金シミュレーション!$C$11*単価表!$G$4/2,電気料金シミュレーション!$C$11*単価表!$G$4),2) -> 0 | O7: =ROUND(E7*単価表!$G$5+F7*単価表!$G$6+G7*単価表!$G$7+H7*単価表!$G$8,2) -> 0 | P7: =ROUND(D7*単価表!$F$19,2) -> 0 | Q7: =ROUNDDOWN(D7*単価表!$G$19,0) -> 0 | R7: =ROUNDDOWN(SUM(N7:Q7),0) -> 0 | S7: =R7-M7 -> 0 | T7: =ROUND(IF(D7=0,電気料金シミュレーション!$C$11*単価表!$Q$4/2,電気料金シミュレーション!$C$11*単価表!$Q$4),2) -> 0 | U7: =ROUND(E7*単価表!$Q$5+F7*単価表!$Q$6+G7*単価表!$Q$7+H7*単価表!$Q$8,2) -> 0 | V7: =ROUND($D7*単価表!$F$19,2) -> 0 | W7: =ROUNDDOWN($D7*単価表!$G$19,0) -> 0 | X7: =ROUNDDOWN(SUM(T7:W7),0) -> 0
C8: =単価表!$E$20 -> ８月 | D8: =電気料金シミュレーション!$C$22 -> 0 | E8: =IF(D8<120,D8,120) -> 0 | F8: =IF(D8<120,0,IF(D8>300,180,D8-120)) -> 0 | G8: =IF(D8<300,0,IF(D8>400,100,D8-300)) -> 0 | H8: =IF(D8<400,0,D8-400) -> 0 | I8: =ROUND(IF(D8=0,電気料金シミュレーション!$C$11*単価表!$F$4/2,電気料金シミュレーション!$C$11*単価表!$F$4),2) -> 0 | J8: =ROUND(E8*単価表!$F$5+F8*単価表!$F$6+G8*単価表!$F$7+H8*単価表!$F$8,2) -> 0 | K8: =ROUND(D8*単価表!$F$20,2) -> 0 | L8: =ROUNDDOWN(D8*単価表!$G$20,0) -> 0 | M8: =ROUNDDOWN(SUM(I8:L8),0) -> 0 | N8: =ROUND(IF(D8=0,電気料金シミュレーション!$C$11*単価表!$G$4/2,電気料金シミュレーション!$C$11*単価表!$G$4),2) -> 0 | O8: =ROUND(E8*単価表!$G$5+F8*単価表!$G$6+G8*単価表!$G$7+H8*単価表!$G$8,2) -> 0 | P8: =ROUND(D8*単価表!$F$20,2) -> 0 | Q8: =ROUNDDOWN(D8*単価表!$G$20,0) -> 0 | R8: =ROUNDDOWN(SUM(N8:Q8),0) -> 0 | S8: =R8-M8 -> 0 | T8: =ROUND(IF(D8=0,電気料金シミュレーション!$C$11*単価表!$Q$4/2,電気料金シミュレーション!$C$11*単価表!$Q$4),2) -> 0 | U8: =ROUND(E8*単価表!$Q$5+F8*単価表!$Q$6+G8*単価表!$Q$7+H8*単価表!$Q$8,2) -> 0 | V8: =ROUND($D8*単価表!$F$20,2) -> 0 | W8: =ROUNDDOWN($D8*単価表!$G$20,0) -> 0 | X8: =ROUNDDOWN(SUM(T8:W8),0) -> 0
C9: =単価表!$E$21 -> ７月 | D9: =電気料金シミュレーション!$C$23 -> 0 | E9: =IF(D9<120,D9,120) -> 0 | F9: =IF(D9<120,0,IF(D9>300,180,D9-120)) -> 0 | G9: =IF(D9<300,0,IF(D9>400,100,D9-300)) -> 0 | H9: =IF(D9<400,0,D9-400) -> 0 | I9: =ROUND(IF(D9=0,電気料金シミュレーション!$C$11*単価表!$F$4/2,電気料金シミュレーション!$C$11*単価表!$F$4),2) -> 0 | J9: =ROUND(E9*単価表!$F$5+F9*単価表!$F$6+G9*単価表!$F$7+H9*単価表!$F$8,2) -> 0 | K9: =ROUND(D9*単価表!$F$21,2) -> 0 | L9: =ROUNDDOWN(D9*単価表!$G$21,0) -> 0 | M9: =ROUNDDOWN(SUM(I9:L9),0) -> 0 | N9: =ROUND(IF(D9=0,電気料金シミュレーション!$C$11*単価表!$G$4/2,電気料金シミュレーション!$C$11*単価表!$G$4),2) -> 0 | O9: =ROUND(E9*単価表!$G$5+F9*単価表!$G$6+G9*単価表!$G$7+H9*単価表!$G$8,2) -> 0 | P9: =ROUND(D9*単価表!$F$21,2) -> 0 | Q9: =ROUNDDOWN(D9*単価表!$G$21,0) -> 0 | R9: =ROUNDDOWN(SUM(N9:Q9),0) -> 0 | S9: =R9-M9 -> 0 | T9: =ROUND(IF(D9=0,電気料金シミュレーション!$C$11*単価表!$Q$4/2,電気料金シミュレーション!$C$11*単価表!$Q$4),2) -> 0 | U9: =ROUND(E9*単価表!$Q$5+F9*単価表!$Q$6+G9*単価表!$Q$7+H9*単価表!$Q$8,2) -> 0 | V9: =ROUND($D9*単価表!$F$21,2) -> 0 | W9: =ROUNDDOWN($D9*単価表!$G$21,0) -> 0 | X9: =ROUNDDOWN(SUM(T9:W9),0) -> 0
C10: =単価表!$E$22 -> ６月 | D10: =電気料金シミュレーション!$C$24 -> 0 | E10: =IF(D10<120,D10,120) -> 0 | F10: =IF(D10<120,0,IF(D10>300,180,D10-120)) -> 0 | G10: =IF(D10<300,0,IF(D10>400,100,D10-300)) -> 0 | H10: =IF(D10<400,0,D10-400) -> 0 | I10: =ROUND(IF(D10=0,電気料金シミュレーション!$C$11*単価表!$F$4/2,電気料金シミュレーション!$C$11*単価表!$F$4),2) -> 0 | J10: =ROUND(E10*単価表!$F$5+F10*単価表!$F$6+G10*単価表!$F$7+H10*単価表!$F$8,2) -> 0 | K10: =ROUND(D10*単価表!$F$22,2) -> 0 | L10: =ROUNDDOWN(D10*単価表!$G$22,0) -> 0 | M10: =ROUNDDOWN(SUM(I10:L10),0) -> 0 | N10: =ROUND(IF(D10=0,電気料金シミュレーション!$C$11*単価表!$G$4/2,電気料金シミュレーション!$C$11*単価表!$G$4),2) -> 0 | O10: =ROUND(E10*単価表!$G$5+F10*単価表!$G$6+G10*単価表!$G$7+H10*単価表!$G$8,2) -> 0 | P10: =ROUND(D10*単価表!$F$22,2) -> 0 | Q10: =ROUNDDOWN(D10*単価表!$G$22,0) -> 0 | R10: =ROUNDDOWN(SUM(N10:Q10),0) -> 0 | S10: =R10-M10 -> 0 | T10: =ROUND(IF(D10=0,電気料金シミュレーション!$C$11*単価表!$Q$4/2,電気料金シミュレーション!$C$11*単価表!$Q$4),2) -> 0 | U10: =ROUND(E10*単価表!$Q$5+F10*単価表!$Q$6+G10*単価表!$Q$7+H10*単価表!$Q$8,2) -> 0 | V10: =ROUND($D10*単価表!$F$22,2) -> 0 | W10: =ROUNDDOWN($D10*単価表!$G$22,0) -> 0 | X10: =ROUNDDOWN(SUM(T10:W10),0) -> 0
C11: =単価表!$E$23 -> ５月 | D11: =電気料金シミュレーション!$C$25 -> 0 | E11: =IF(D11<120,D11,120) -> 0 | F11: =IF(D11<120,0,IF(D11>300,180,D11-120)) -> 0 | G11: =IF(D11<300,0,IF(D11>400,100,D11-300)) -> 0 | H11: =IF(D11<400,0,D11-400) -> 0 | I11: =ROUND(IF(D11=0,電気料金シミュレーション!$C$11*単価表!$F$4/2,電気料金シミュレーション!$C$11*単価表!$F$4),2) -> 0 | J11: =ROUND(E11*単価表!$F$5+F11*単価表!$F$6+G11*単価表!$F$7+H11*単価表!$F$8,2) -> 0 | K11: =ROUND(D11*単価表!$F$23,2) -> 0 | L11: =ROUNDDOWN(D11*単価表!$G$23,0) -> 0 | M11: =ROUNDDOWN(SUM(I11:L11),0) -> 0 | N11: =ROUND(IF(D11=0,電気料金シミュレーション!$C$11*単価表!$G$4/2,電気料金シミュレーション!$C$11*単価表!$G$4),2) -> 0 | O11: =ROUND(E11*単価表!$G$5+F11*単価表!$G$6+G11*単価表!$G$7+H11*単価表!$G$8,2) -> 0 | P11: =ROUND(D11*単価表!$F$23,2) -> 0 | Q11: =ROUNDDOWN(D11*単価表!$G$23,0) -> 0 | R11: =ROUNDDOWN(SUM(N11:Q11),0) -> 0 | S11: =R11-M11 -> 0 | T11: =ROUND(IF(D11=0,電気料金シミュレーション!$C$11*単価表!$Q$4/2,電気料金シミュレーション!$C$11*単価表!$Q$4),2) -> 0 | U11: =ROUND(E11*単価表!$Q$5+F11*単価表!$Q$6+G11*単価表!$Q$7+H11*単価表!$Q$8,2) -> 0 | V11: =ROUND($D11*単価表!$F$23,2) -> 0 | W11: =ROUNDDOWN($D11*単価表!$G$23,0) -> 0 | X11: =ROUNDDOWN(SUM(T11:W11),0) -> 0
C12: =単価表!$E$24 -> ４月 | D12: =電気料金シミュレーション!$C$26 -> 0 | E12: =IF(D12<120,D12,120) -> 0 | F12: =IF(D12<120,0,IF(D12>300,180,D12-120)) -> 0 | G12: =IF(D12<300,0,IF(D12>400,100,D12-300)) -> 0 | H12: =IF(D12<400,0,D12-400) -> 0 | I12: =ROUND(IF(D12=0,電気料金シミュレーション!$C$11*単価表!$F$4/2,電気料金シミュレーション!$C$11*単価表!$F$4),2) -> 0 | J12: =ROUND(E12*単価表!$F$5+F12*単価表!$F$6+G12*単価表!$F$7+H12*単価表!$F$8,2) -> 0 | K12: =ROUND(D12*単価表!$F$24,2) -> 0 | L12: =ROUNDDOWN(D12*単価表!$G$24,0) -> 0 | M12: =ROUNDDOWN(SUM(I12:L12),0) -> 0 | N12: =ROUND(IF(D12=0,電気料金シミュレーション!$C$11*単価表!$G$4/2,電気料金シミュレーション!$C$11*単価表!$G$4),2) -> 0 | O12: =ROUND(E12*単価表!$G$5+F12*単価表!$G$6+G12*単価表!$G$7+H12*単価表!$G$8,2) -> 0 | P12: =ROUND(D12*単価表!$F$24,2) -> 0 | Q12: =ROUNDDOWN(D12*単価表!$G$24,0) -> 0 | R12: =ROUNDDOWN(SUM(N12:Q12),0) -> 0 | S12: =R12-M12 -> 0 | T12: =ROUND(IF(D12=0,電気料金シミュレーション!$C$11*単価表!$Q$4/2,電気料金シミュレーション!$C$11*単価表!$Q$4),2) -> 0 | U12: =ROUND(E12*単価表!$Q$5+F12*単価表!$Q$6+G12*単価表!$Q$7+H12*単価表!$Q$8,2) -> 0 | V12: =ROUND($D12*単価表!$F$24,2) -> 0 | W12: =ROUNDDOWN($D12*単価表!$G$24,0) -> 0 | X12: =ROUNDDOWN(SUM(T12:W12),0) -> 0
C13: =単価表!$E$25 -> ３月 | D13: =電気料金シミュレーション!$C$27 -> 0 | E13: =IF(D13<120,D13,120) -> 0 | F13: =IF(D13<120,0,IF(D13>300,180,D13-120)) -> 0 | G13: =IF(D13<300,0,IF(D13>400,100,D13-300)) -> 0 | H13: =IF(D13<400,0,D13-400) -> 0 | I13: =ROUND(IF(D13=0,電気料金シミュレーション!$C$11*単価表!$F$4/2,電気料金シミュレーション!$C$11*単価表!$F$4),2) -> 0 | J13: =ROUND(E13*単価表!$F$5+F13*単価表!$F$6+G13*単価表!$F$7+H13*単価表!$F$8,2) -> 0 | K13: =ROUND(D13*単価表!$F$25,2) -> 0 | L13: =ROUNDDOWN(D13*単価表!$G$25,0) -> 0 | M13: =ROUNDDOWN(SUM(I13:L13),0) -> 0 | N13: =ROUND(IF(D13=0,電気料金シミュレーション!$C$11*単価表!$G$4/2,電気料金シミュレーション!$C$11*単価表!$G$4),2) -> 0 | O13: =ROUND(E13*単価表!$G$5+F13*単価表!$G$6+G13*単価表!$G$7+H13*単価表!$G$8,2) -> 0 | P13: =ROUND(D13*単価表!$F$25,2) -> 0 | Q13: =ROUNDDOWN(D13*単価表!$G$25,0) -> 0 | R13: =ROUNDDOWN(SUM(N13:Q13),0) -> 0 | S13: =R13-M13 -> 0 | T13: =ROUND(IF(D13=0,電気料金シミュレーション!$C$11*単価表!$Q$4/2,電気料金シミュレーション!$C$11*単価表!$Q$4),2) -> 0 | U13: =ROUND(E13*単価表!$Q$5+F13*単価表!$Q$6+G13*単価表!$Q$7+H13*単価表!$Q$8,2) -> 0 | V13: =ROUND($D13*単価表!$F$25,2) -> 0 | W13: =ROUNDDOWN($D13*単価表!$G$25,0) -> 0 | X13: =ROUNDDOWN(SUM(T13:W13),0) -> 0
C14: =単価表!$E$26 -> ２月 | D14: =電気料金シミュレーション!$C$28 -> 0 | E14: =IF(D14<120,D14,120) -> 0 | F14: =IF(D14<120,0,IF(D14>300,180,D14-120)) -> 0 | G14: =IF(D14<300,0,IF(D14>400,100,D14-300)) -> 0 | H14: =IF(D14<400,0,D14-400) -> 0 | I14: =ROUND(IF(D14=0,電気料金シミュレーション!$C$11*単価表!$F$4/2,電気料金シミュレーション!$C$11*単価表!$F$4),2) -> 0 | J14: =ROUND(E14*単価表!$F$5+F14*単価表!$F$6+G14*単価表!$F$7+H14*単価表!$F$8,2) -> 0 | K14: =ROUND(D14*単価表!$F$26,2) -> 0 | L14: =ROUNDDOWN(D14*単価表!$G$26,0) -> 0 | M14: =ROUNDDOWN(SUM(I14:L14),0) -> 0 | N14: =ROUND(IF(D14=0,電気料金シミュレーション!$C$11*単価表!$G$4/2,電気料金シミュレーション!$C$11*単価表!$G$4),2) -> 0 | O14: =ROUND(E14*単価表!$G$5+F14*単価表!$G$6+G14*単価表!$G$7+H14*単価表!$G$8,2) -> 0 | P14: =ROUND(D14*単価表!$F$26,2) -> 0 | Q14: =ROUNDDOWN(D14*単価表!$G$26,0) -> 0 | R14: =ROUNDDOWN(SUM(N14:Q14),0) -> 0 | S14: =R14-M14 -> 0 | T14: =ROUND(IF(D14=0,電気料金シミュレーション!$C$11*単価表!$Q$4/2,電気料金シミュレーション!$C$11*単価表!$Q$4),2) -> 0 | U14: =ROUND(E14*単価表!$Q$5+F14*単価表!$Q$6+G14*単価表!$Q$7+H14*単価表!$Q$8,2) -> 0 | V14: =ROUND($D14*単価表!$F$26,2) -> 0 | W14: =ROUNDDOWN($D14*単価表!$G$26,0) -> 0 | X14: =ROUNDDOWN(SUM(T14:W14),0) -> 0
C15: =単価表!$E$27 -> １月 | D15: =電気料金シミュレーション!$C$29 -> 0 | E15: =IF(D15<120,D15,120) -> 0 | F15: =IF(D15<120,0,IF(D15>300,180,D15-120)) -> 0 | G15: =IF(D15<300,0,IF(D15>400,100,D15-300)) -> 0 | H15: =IF(D15<400,0,D15-400) -> 0 | I15: =ROUND(IF(D15=0,電気料金シミュレーション!$C$11*単価表!$F$4/2,電気料金シミュレーション!$C$11*単価表!$F$4),2) -> 0 | J15: =ROUND(E15*単価表!$F$5+F15*単価表!$F$6+G15*単価表!$F$7+H15*単価表!$F$8,2) -> 0 | K15: =ROUND(D15*単価表!$F$27,2) -> 0 | L15: =ROUNDDOWN(D15*単価表!$G$27,0) -> 0 | M15: =ROUNDDOWN(SUM(I15:L15),0) -> 0 | N15: =ROUND(IF(D15=0,電気料金シミュレーション!$C$11*単価表!$G$4/2,電気料金シミュレーション!$C$11*単価表!$G$4),2) -> 0 | O15: =ROUND(E15*単価表!$G$5+F15*単価表!$G$6+G15*単価表!$G$7+H15*単価表!$G$8,2) -> 0 | P15: =ROUND(D15*単価表!$F$27,2) -> 0 | Q15: =ROUNDDOWN(D15*単価表!$G$27,0) -> 0 | R15: =ROUNDDOWN(SUM(N15:Q15),0) -> 0 | S15: =R15-M15 -> 0 | T15: =ROUND(IF(D15=0,電気料金シミュレーション!$C$11*単価表!$Q$4/2,電気料金シミュレーション!$C$11*単価表!$Q$4),2) -> 0 | U15: =ROUND(E15*単価表!$Q$5+F15*単価表!$Q$6+G15*単価表!$Q$7+H15*単価表!$Q$8,2) -> 0 | V15: =ROUND($D15*単価表!$F$27,2) -> 0 | W15: =ROUNDDOWN($D15*単価表!$G$27,0) -> 0 | X15: =ROUNDDOWN(SUM(T15:W15),0) -> 0
C16: =単価表!$E$28 -> 12月 | D16: =電気料金シミュレーション!$C$30 -> 0 | E16: =IF(D16<120,D16,120) -> 0 | F16: =IF(D16<120,0,IF(D16>300,180,D16-120)) -> 0 | G16: =IF(D16<300,0,IF(D16>400,100,D16-300)) -> 0 | H16: =IF(D16<400,0,D16-400) -> 0 | I16: =ROUND(IF(D16=0,電気料金シミュレーション!$C$11*単価表!$F$4/2,電気料金シミュレーション!$C$11*単価表!$F$4),2) -> 0 | J16: =ROUND(E16*単価表!$F$5+F16*単価表!$F$6+G16*単価表!$F$7+H16*単価表!$F$8,2) -> 0 | K16: =ROUND(D16*単価表!$F$28,2) -> 0 | L16: =ROUNDDOWN(D16*単価表!$G$28,0) -> 0 | M16: =ROUNDDOWN(SUM(I16:L16),0) -> 0 | N16: =ROUND(IF(D16=0,電気料金シミュレーション!$C$11*単価表!$G$4/2,電気料金シミュレーション!$C$11*単価表!$G$4),2) -> 0 | O16: =ROUND(E16*単価表!$G$5+F16*単価表!$G$6+G16*単価表!$G$7+H16*単価表!$G$8,2) -> 0 | P16: =ROUND(D16*単価表!$F$28,2) -> 0 | Q16: =ROUNDDOWN(D16*単価表!$G$28,0) -> 0 | R16: =ROUNDDOWN(SUM(N16:Q16),0) -> 0 | S16: =R16-M16 -> 0 | T16: =ROUND(IF(D16=0,電気料金シミュレーション!$C$11*単価表!$Q$4/2,電気料金シミュレーション!$C$11*単価表!$Q$4),2) -> 0 | U16: =ROUND(E16*単価表!$Q$5+F16*単価表!$Q$6+G16*単価表!$Q$7+H16*単価表!$Q$8,2) -> 0 | V16: =ROUND($D16*単価表!$F$28,2) -> 0 | W16: =ROUNDDOWN($D16*単価表!$G$28,0) -> 0 | X16: =ROUNDDOWN(SUM(T16:W16),0) -> 0
C17: 計 | D17: =SUM(D5:D16) -> 0 | E17: =SUM(E5:E16) -> 0 | F17: =SUM(F5:F16) -> 0 | G17: =SUM(G5:G16) -> 0 | H17: =SUM(H5:H16) -> 0 | I17: =SUM(I5:I16) -> 0 | J17: =SUM(J5:J16) -> 0 | K17: =SUM(K5:K16) -> 0 | L17: =SUM(L5:L16) -> 0 | M17: =ROUNDDOWN(SUM(I17:L17),0) -> 0 | N17: =SUM(N5:N16) -> 0 | O17: =SUM(O5:O16) -> 0 | P17: =SUM(P5:P16) -> 0 | Q17: =SUM(Q5:Q16) -> 0 | R17: =ROUNDDOWN(SUM(N17:Q17),0) -> 0 | S17: =R17-M17 -> 0 | T17: =SUM(T5:T16) -> 0 | U17: =SUM(U5:U16) -> 0 | V17: =SUM(V5:V16) -> 0 | W17: =SUM(W5:W16) -> 0 | X17: =ROUNDDOWN(SUM(T17:W17),0) -> 0
C20: 使用年月 | D20: 使用量 | E20: 使用量内訳 | I20: 北陸電力 | T20: 東電EP[従量電灯B]
E21: 1段階 | F21: 2段階 | G21: 3段階 | H21: 4段階 | I21: 改定前 | N21: 11/1改定後 | S21: 影響額
I22: 基本料金 | J22: 使用量料金 | K22: 燃調 | L22: 再エネ | M22: 合計 | N22: 基本料金 | O22: 使用量料金 | P22: 燃調 | Q22: 再エネ | R22: 合計 | S22: 円 | T22: 基本料金 | U22: 使用量料金 | V22: 燃調 | W22: 再エネ | X22: 合計
B23: ANAマイレージ契約 | C23: =単価表!$E$17 -> 11月 | D23: =電気料金シミュレーション!$C$19 -> 0 | E23: =IF(D23<120,D23,120) -> 0 | F23: =IF(D23<120,0,IF(D23>300,180,D23-120)) -> 0 | G23: =IF(D23<300,0,IF(D23>400,100,D23-300)) -> 0 | H23: =IF(D23<400,0,D23-400) -> 0 | I23: =ROUND(IF(D23=0,電気料金シミュレーション!$C$11*単価表!$H$4/2,電気料金シミュレーション!$C$11*単価表!$H$4),2) -> 0 | J23: =ROUND(E23*単価表!$H$5+F23*単価表!$H$6+G23*単価表!$H$7+H23*単価表!$H$8,2) -> 0 | K23: =ROUND(D23*単価表!$F$17,2) -> 0 | L23: =ROUNDDOWN(D23*単価表!$G$17,0) -> 0 | M23: =ROUNDDOWN(SUM(I23:L23),0) -> 0 | N23: =ROUND(IF(D23=0,電気料金シミュレーション!$C$11*単価表!$I$4/2,電気料金シミュレーション!$C$11*単価表!$I$4),2) -> 0 | O23: =ROUND(E23*単価表!$I$5+F23*単価表!$I$6+G23*単価表!$I$7+H23*単価表!$I$8,2) -> 0 | P23: =ROUND(D23*単価表!$F$17,2) -> 0 | Q23: =ROUNDDOWN(D23*単価表!$G$17,0) -> 0 | R23: =ROUNDDOWN(SUM(N23:Q23),0) -> 0 | S23: =R23-M23 -> 0 | T23: =ROUND(IF(D23=0,電気料金シミュレーション!$C$11*単価表!$Q$4/2,電気料金シミュレーション!$C$11*単価表!$Q$4),2) -> 0 | U23: =ROUND(E23*単価表!$Q$5+F23*単価表!$Q$6+G23*単価表!$Q$7+H23*単価表!$Q$8,2) -> 0 | V23: =ROUND($D23*単価表!$F$17,2) -> 0 | W23: =ROUNDDOWN($D23*単価表!$G$17,0) -> 0 | X23: =ROUNDDOWN(SUM(T23:W23),0) -> 0
C24: =単価表!$E$18 -> 10月 | D24: =電気料金シミュレーション!$C$20 -> 0 | E24: =IF(D24<120,D24,120) -> 0 | F24: =IF(D24<120,0,IF(D24>300,180,D24-120)) -> 0 | G24: =IF(D24<300,0,IF(D24>400,100,D24-300)) -> 0 | H24: =IF(D24<400,0,D24-400) -> 0 | I24: =ROUND(IF(D24=0,電気料金シミュレーション!$C$11*単価表!$H$4/2,電気料金シミュレーション!$C$11*単価表!$H$4),2) -> 0 | J24: =ROUND(E24*単価表!$H$5+F24*単価表!$H$6+G24*単価表!$H$7+H24*単価表!$H$8,2) -> 0 | K24: =ROUND(D24*単価表!$F$18,2) -> 0 | L24: =ROUNDDOWN(D24*単価表!$G$18,0) -> 0 | M24: =ROUNDDOWN(SUM(I24:L24),0) -> 0 | N24: =ROUND(IF(D24=0,電気料金シミュレーション!$C$11*単価表!$I$4/2,電気料金シミュレーション!$C$11*単価表!$I$4),2) -> 0 | O24: =ROUND(E24*単価表!$I$5+F24*単価表!$I$6+G24*単価表!$I$7+H24*単価表!$I$8,2) -> 0 | P24: =ROUND(D24*単価表!$F$18,2) -> 0 | Q24: =ROUNDDOWN(D24*単価表!$G$18,0) -> 0 | R24: =ROUNDDOWN(SUM(N24:Q24),0) -> 0 | S24: =R24-M24 -> 0 | T24: =ROUND(IF(D24=0,電気料金シミュレーション!$C$11*単価表!$Q$4/2,電気料金シミュレーション!$C$11*単価表!$Q$4),2) -> 0 | U24: =ROUND(E24*単価表!$Q$5+F24*単価表!$Q$6+G24*単価表!$Q$7+H24*単価表!$Q$8,2) -> 0 | V24: =ROUND($D24*単価表!$F$18,2) -> 0 | W24: =ROUNDDOWN($D24*単価表!$G$18,0) -> 0 | X24: =ROUNDDOWN(SUM(T24:W24),0) -> 0
C25: =単価表!$E$19 -> ９月 | D25: =電気料金シミュレーション!$C$21 -> 0 | E25: =IF(D25<120,D25,120) -> 0 | F25: =IF(D25<120,0,IF(D25>300,180,D25-120)) -> 0 | G25: =IF(D25<300,0,IF(D25>400,100,D25-300)) -> 0 | H25: =IF(D25<400,0,D25-400) -> 0 | I25: =ROUND(IF(D25=0,電気料金シミュレーション!$C$11*単価表!$H$4/2,電気料金シミュレーション!$C$11*単価表!$H$4),2) -> 0 | J25: =ROUND(E25*単価表!$H$5+F25*単価表!$H$6+G25*単価表!$H$7+H25*単価表!$H$8,2) -> 0 | K25: =ROUND(D25*単価表!$F$19,2) -> 0 | L25: =ROUNDDOWN(D25*単価表!$G$19,0) -> 0 | M25: =ROUNDDOWN(SUM(I25:L25),0) -> 0 | N25: =ROUND(IF(D25=0,電気料金シミュレーション!$C$11*単価表!$I$4/2,電気料金シミュレーション!$C$11*単価表!$I$4),2) -> 0 | O25: =ROUND(E25*単価表!$I$5+F25*単価表!$I$6+G25*単価表!$I$7+H25*単価表!$I$8,2) -> 0 | P25: =ROUND(D25*単価表!$F$19,2) -> 0 | Q25: =ROUNDDOWN(D25*単価表!$G$19,0) -> 0 | R25: =ROUNDDOWN(SUM(N25:Q25),0) -> 0 | S25: =R25-M25 -> 0 | T25: =ROUND(IF(D25=0,電気料金シミュレーション!$C$11*単価表!$Q$4/2,電気料金シミュレーション!$C$11*単価表!$Q$4),2) -> 0 | U25: =ROUND(E25*単価表!$Q$5+F25*単価表!$Q$6+G25*単価表!$Q$7+H25*単価表!$Q$8,2) -> 0 | V25: =ROUND($D25*単価表!$F$19,2) -> 0 | W25: =ROUNDDOWN($D25*単価表!$G$19,0) -> 0 | X25: =ROUNDDOWN(SUM(T25:W25),0) -> 0
C26: =単価表!$E$20 -> ８月 | D26: =電気料金シミュレーション!$C$22 -> 0 | E26: =IF(D26<120,D26,120) -> 0 | F26: =IF(D26<120,0,IF(D26>300,180,D26-120)) -> 0 | G26: =IF(D26<300,0,IF(D26>400,100,D26-300)) -> 0 | H26: =IF(D26<400,0,D26-400) -> 0 | I26: =ROUND(IF(D26=0,電気料金シミュレーション!$C$11*単価表!$H$4/2,電気料金シミュレーション!$C$11*単価表!$H$4),2) -> 0 | J26: =ROUND(E26*単価表!$H$5+F26*単価表!$H$6+G26*単価表!$H$7+H26*単価表!$H$8,2) -> 0 | K26: =ROUND(D26*単価表!$F$20,2) -> 0 | L26: =ROUNDDOWN(D26*単価表!$G$20,0) -> 0 | M26: =ROUNDDOWN(SUM(I26:L26),0) -> 0 | N26: =ROUND(IF(D26=0,電気料金シミュレーション!$C$11*単価表!$I$4/2,電気料金シミュレーション!$C$11*単価表!$I$4),2) -> 0 | O26: =ROUND(E26*単価表!$I$5+F26*単価表!$I$6+G26*単価表!$I$7+H26*単価表!$I$8,2) -> 0 | P26: =ROUND(D26*単価表!$F$20,2) -> 0 | Q26: =ROUNDDOWN(D26*単価表!$G$20,0) -> 0 | R26: =ROUNDDOWN(SUM(N26:Q26),0) -> 0 | S26: =R26-M26 -> 0 | T26: =ROUND(IF(D26=0,電気料金シミュレーション!$C$11*単価表!$Q$4/2,電気料金シミュレーション!$C$11*単価表!$Q$4),2) -> 0 | U26: =ROUND(E26*単価表!$Q$5+F26*単価表!$Q$6+G26*単価表!$Q$7+H26*単価表!$Q$8,2) -> 0 | V26: =ROUND($D26*単価表!$F$20,2) -> 0 | W26: =ROUNDDOWN($D26*単価表!$G$20,0) -> 0 | X26: =ROUNDDOWN(SUM(T26:W26),0) -> 0
C27: =単価表!$E$21 -> ７月 | D27: =電気料金シミュレーション!$C$23 -> 0 | E27: =IF(D27<120,D27,120) -> 0 | F27: =IF(D27<120,0,IF(D27>300,180,D27-120)) -> 0 | G27: =IF(D27<300,0,IF(D27>400,100,D27-300)) -> 0 | H27: =IF(D27<400,0,D27-400) -> 0 | I27: =ROUND(IF(D27=0,電気料金シミュレーション!$C$11*単価表!$H$4/2,電気料金シミュレーション!$C$11*単価表!$H$4),2) -> 0 | J27: =ROUND(E27*単価表!$H$5+F27*単価表!$H$6+G27*単価表!$H$7+H27*単価表!$H$8,2) -> 0 | K27: =ROUND(D27*単価表!$F$21,2) -> 0 | L27: =ROUNDDOWN(D27*単価表!$G$21,0) -> 0 | M27: =ROUNDDOWN(SUM(I27:L27),0) -> 0 | N27: =ROUND(IF(D27=0,電気料金シミュレーション!$C$11*単価表!$I$4/2,電気料金シミュレーション!$C$11*単価表!$I$4),2) -> 0 | O27: =ROUND(E27*単価表!$I$5+F27*単価表!$I$6+G27*単価表!$I$7+H27*単価表!$I$8,2) -> 0 | P27: =ROUND(D27*単価表!$F$21,2) -> 0 | Q27: =ROUNDDOWN(D27*単価表!$G$21,0) -> 0 | R27: =ROUNDDOWN(SUM(N27:Q27),0) -> 0 | S27: =R27-M27 -> 0 | T27: =ROUND(IF(D27=0,電気料金シミュレーション!$C$11*単価表!$Q$4/2,電気料金シミュレーション!$C$11*単価表!$Q$4),2) -> 0 | U27: =ROUND(E27*単価表!$Q$5+F27*単価表!$Q$6+G27*単価表!$Q$7+H27*単価表!$Q$8,2) -> 0 | V27: =ROUND($D27*単価表!$F$21,2) -> 0 | W27: =ROUNDDOWN($D27*単価表!$G$21,0) -> 0 | X27: =ROUNDDOWN(SUM(T27:W27),0) -> 0
C28: =単価表!$E$22 -> ６月 | D28: =電気料金シミュレーション!$C$24 -> 0 | E28: =IF(D28<120,D28,120) -> 0 | F28: =IF(D28<120,0,IF(D28>300,180,D28-120)) -> 0 | G28: =IF(D28<300,0,IF(D28>400,100,D28-300)) -> 0 | H28: =IF(D28<400,0,D28-400) -> 0 | I28: =ROUND(IF(D28=0,電気料金シミュレーション!$C$11*単価表!$H$4/2,電気料金シミュレーション!$C$11*単価表!$H$4),2) -> 0 | J28: =ROUND(E28*単価表!$H$5+F28*単価表!$H$6+G28*単価表!$H$7+H28*単価表!$H$8,2) -> 0 | K28: =ROUND(D28*単価表!$F$22,2) -> 0 | L28: =ROUNDDOWN(D28*単価表!$G$22,0) -> 0 | M28: =ROUNDDOWN(SUM(I28:L28),0) -> 0 | N28: =ROUND(IF(D28=0,電気料金シミュレーション!$C$11*単価表!$I$4/2,電気料金シミュレーション!$C$11*単価表!$I$4),2) -> 0 | O28: =ROUND(E28*単価表!$I$5+F28*単価表!$I$6+G28*単価表!$I$7+H28*単価表!$I$8,2) -> 0 | P28: =ROUND(D28*単価表!$F$22,2) -> 0 | Q28: =ROUNDDOWN(D28*単価表!$G$22,0) -> 0 | R28: =ROUNDDOWN(SUM(N28:Q28),0) -> 0 | S28: =R28-M28 -> 0 | T28: =ROUND(IF(D28=0,電気料金シミュレーション!$C$11*単価表!$Q$4/2,電気料金シミュレーション!$C$11*単価表!$Q$4),2) -> 0 | U28: =ROUND(E28*単価表!$Q$5+F28*単価表!$Q$6+G28*単価表!$Q$7+H28*単価表!$Q$8,2) -> 0 | V28: =ROUND($D28*単価表!$F$22,2) -> 0 | W28: =ROUNDDOWN($D28*単価表!$G$22,0) -> 0 | X28: =ROUNDDOWN(SUM(T28:W28),0) -> 0
C29: =単価表!$E$23 -> ５月 | D29: =電気料金シミュレーション!$C$25 -> 0 | E29: =IF(D29<120,D29,120) -> 0 | F29: =IF(D29<120,0,IF(D29>300,180,D29-120)) -> 0 | G29: =IF(D29<300,0,IF(D29>400,100,D29-300)) -> 0 | H29: =IF(D29<400,0,D29-400) -> 0 | I29: =ROUND(IF(D29=0,電気料金シミュレーション!$C$11*単価表!$H$4/2,電気料金シミュレーション!$C$11*単価表!$H$4),2) -> 0 | J29: =ROUND(E29*単価表!$H$5+F29*単価表!$H$6+G29*単価表!$H$7+H29*単価表!$H$8,2) -> 0 | K29: =ROUND(D29*単価表!$F$23,2) -> 0 | L29: =ROUNDDOWN(D29*単価表!$G$23,0) -> 0 | M29: =ROUNDDOWN(SUM(I29:L29),0) -> 0 | N29: =ROUND(IF(D29=0,電気料金シミュレーション!$C$11*単価表!$I$4/2,電気料金シミュレーション!$C$11*単価表!$I$4),2) -> 0 | O29: =ROUND(E29*単価表!$I$5+F29*単価表!$I$6+G29*単価表!$I$7+H29*単価表!$I$8,2) -> 0 | P29: =ROUND(D29*単価表!$F$23,2) -> 0 | Q29: =ROUNDDOWN(D29*単価表!$G$23,0) -> 0 | R29: =ROUNDDOWN(SUM(N29:Q29),0) -> 0 | S29: =R29-M29 -> 0 | T29: =ROUND(IF(D29=0,電気料金シミュレーション!$C$11*単価表!$Q$4/2,電気料金シミュレーション!$C$11*単価表!$Q$4),2) -> 0 | U29: =ROUND(E29*単価表!$Q$5+F29*単価表!$Q$6+G29*単価表!$Q$7+H29*単価表!$Q$8,2) -> 0 | V29: =ROUND($D29*単価表!$F$23,2) -> 0 | W29: =ROUNDDOWN($D29*単価表!$G$23,0) -> 0 | X29: =ROUNDDOWN(SUM(T29:W29),0) -> 0
C30: =単価表!$E$24 -> ４月 | D30: =電気料金シミュレーション!$C$26 -> 0 | E30: =IF(D30<120,D30,120) -> 0 | F30: =IF(D30<120,0,IF(D30>300,180,D30-120)) -> 0 | G30: =IF(D30<300,0,IF(D30>400,100,D30-300)) -> 0 | H30: =IF(D30<400,0,D30-400) -> 0 | I30: =ROUND(IF(D30=0,電気料金シミュレーション!$C$11*単価表!$H$4/2,電気料金シミュレーション!$C$11*単価表!$H$4),2) -> 0 | J30: =ROUND(E30*単価表!$H$5+F30*単価表!$H$6+G30*単価表!$H$7+H30*単価表!$H$8,2) -> 0 | K30: =ROUND(D30*単価表!$F$24,2) -> 0 | L30: =ROUNDDOWN(D30*単価表!$G$24,0) -> 0 | M30: =ROUNDDOWN(SUM(I30:L30),0) -> 0 | N30: =ROUND(IF(D30=0,電気料金シミュレーション!$C$11*単価表!$I$4/2,電気料金シミュレーション!$C$11*単価表!$I$4),2) -> 0 | O30: =ROUND(E30*単価表!$I$5+F30*単価表!$I$6+G30*単価表!$I$7+H30*単価表!$I$8,2) -> 0 | P30: =ROUND(D30*単価表!$F$24,2) -> 0 | Q30: =ROUNDDOWN(D30*単価表!$G$24,0) -> 0 | R30: =ROUNDDOWN(SUM(N30:Q30),0) -> 0 | S30: =R30-M30 -> 0 | T30: =ROUND(IF(D30=0,電気料金シミュレーション!$C$11*単価表!$Q$4/2,電気料金シミュレーション!$C$11*単価表!$Q$4),2) -> 0 | U30: =ROUND(E30*単価表!$Q$5+F30*単価表!$Q$6+G30*単価表!$Q$7+H30*単価表!$Q$8,2) -> 0 | V30: =ROUND($D30*単価表!$F$24,2) -> 0 | W30: =ROUNDDOWN($D30*単価表!$G$24,0) -> 0 | X30: =ROUNDDOWN(SUM(T30:W30),0) -> 0
C31: =単価表!$E$25 -> ３月 | D31: =電気料金シミュレーション!$C$27 -> 0 | E31: =IF(D31<120,D31,120) -> 0 | F31: =IF(D31<120,0,IF(D31>300,180,D31-120)) -> 0 | G31: =IF(D31<300,0,IF(D31>400,100,D31-300)) -> 0 | H31: =IF(D31<400,0,D31-400) -> 0 | I31: =ROUND(IF(D31=0,電気料金シミュレーション!$C$11*単価表!$H$4/2,電気料金シミュレーション!$C$11*単価表!$H$4),2) -> 0 | J31: =ROUND(E31*単価表!$H$5+F31*単価表!$H$6+G31*単価表!$H$7+H31*単価表!$H$8,2) -> 0 | K31: =ROUND(D31*単価表!$F$25,2) -> 0 | L31: =ROUNDDOWN(D31*単価表!$G$25,0) -> 0 | M31: =ROUNDDOWN(SUM(I31:L31),0) -> 0 | N31: =ROUND(IF(D31=0,電気料金シミュレーション!$C$11*単価表!$I$4/2,電気料金シミュレーション!$C$11*単価表!$I$4),2) -> 0 | O31: =ROUND(E31*単価表!$I$5+F31*単価表!$I$6+G31*単価表!$I$7+H31*単価表!$I$8,2) -> 0 | P31: =ROUND(D31*単価表!$F$25,2) -> 0 | Q31: =ROUNDDOWN(D31*単価表!$G$25,0) -> 0 | R31: =ROUNDDOWN(SUM(N31:Q31),0) -> 0 | S31: =R31-M31 -> 0 | T31: =ROUND(IF(D31=0,電気料金シミュレーション!$C$11*単価表!$Q$4/2,電気料金シミュレーション!$C$11*単価表!$Q$4),2) -> 0 | U31: =ROUND(E31*単価表!$Q$5+F31*単価表!$Q$6+G31*単価表!$Q$7+H31*単価表!$Q$8,2) -> 0 | V31: =ROUND($D31*単価表!$F$25,2) -> 0 | W31: =ROUNDDOWN($D31*単価表!$G$25,0) -> 0 | X31: =ROUNDDOWN(SUM(T31:W31),0) -> 0
C32: =単価表!$E$26 -> ２月 | D32: =電気料金シミュレーション!$C$28 -> 0 | E32: =IF(D32<120,D32,120) -> 0 | F32: =IF(D32<120,0,IF(D32>300,180,D32-120)) -> 0 | G32: =IF(D32<300,0,IF(D32>400,100,D32-300)) -> 0 | H32: =IF(D32<400,0,D32-400) -> 0 | I32: =ROUND(IF(D32=0,電気料金シミュレーション!$C$11*単価表!$H$4/2,電気料金シミュレーション!$C$11*単価表!$H$4),2) -> 0 | J32: =ROUND(E32*単価表!$H$5+F32*単価表!$H$6+G32*単価表!$H$7+H32*単価表!$H$8,2) -> 0 | K32: =ROUND(D32*単価表!$F$26,2) -> 0 | L32: =ROUNDDOWN(D32*単価表!$G$26,0) -> 0 | M32: =ROUNDDOWN(SUM(I32:L32),0) -> 0 | N32: =ROUND(IF(D32=0,電気料金シミュレーション!$C$11*単価表!$I$4/2,電気料金シミュレーション!$C$11*単価表!$I$4),2) -> 0 | O32: =ROUND(E32*単価表!$I$5+F32*単価表!$I$6+G32*単価表!$I$7+H32*単価表!$I$8,2) -> 0 | P32: =ROUND(D32*単価表!$F$26,2) -> 0 | Q32: =ROUNDDOWN(D32*単価表!$G$26,0) -> 0 | R32: =ROUNDDOWN(SUM(N32:Q32),0) -> 0 | S32: =R32-M32 -> 0 | T32: =ROUND(IF(D32=0,電気料金シミュレーション!$C$11*単価表!$Q$4/2,電気料金シミュレーション!$C$11*単価表!$Q$4),2) -> 0 | U32: =ROUND(E32*単価表!$Q$5+F32*単価表!$Q$6+G32*単価表!$Q$7+H32*単価表!$Q$8,2) -> 0 | V32: =ROUND($D32*単価表!$F$26,2) -> 0 | W32: =ROUNDDOWN($D32*単価表!$G$26,0) -> 0 | X32: =ROUNDDOWN(SUM(T32:W32),0) -> 0
C33: =単価表!$E$27 -> １月 | D33: =電気料金シミュレーション!$C$29 -> 0 | E33: =IF(D33<120,D33,120) -> 0 | F33: =IF(D33<120,0,IF(D33>300,180,D33-120)) -> 0 | G33: =IF(D33<300,0,IF(D33>400,100,D33-300)) -> 0 | H33: =IF(D33<400,0,D33-400) -> 0 | I33: =ROUND(IF(D33=0,電気料金シミュレーション!$C$11*単価表!$H$4/2,電気料金シミュレーション!$C$11*単価表!$H$4),2) -> 0 | J33: =ROUND(E33*単価表!$H$5+F33*単価表!$H$6+G33*単価表!$H$7+H33*単価表!$H$8,2) -> 0 | K33: =ROUND(D33*単価表!$F$27,2) -> 0 | L33: =ROUNDDOWN(D33*単価表!$G$27,0) -> 0 | M33: =ROUNDDOWN(SUM(I33:L33),0) -> 0 | N33: =ROUND(IF(D33=0,電気料金シミュレーション!$C$11*単価表!$I$4/2,電気料金シミュレーション!$C$11*単価表!$I$4),2) -> 0 | O33: =ROUND(E33*単価表!$I$5+F33*単価表!$I$6+G33*単価表!$I$7+H33*単価表!$I$8,2) -> 0 | P33: =ROUND(D33*単価表!$F$27,2) -> 0 | Q33: =ROUNDDOWN(D33*単価表!$G$27,0) -> 0 | R33: =ROUNDDOWN(SUM(N33:Q33),0) -> 0 | S33: =R33-M33 -> 0 | T33: =ROUND(IF(D33=0,電気料金シミュレーション!$C$11*単価表!$Q$4/2,電気料金シミュレーション!$C$11*単価表!$Q$4),2) -> 0 | U33: =ROUND(E33*単価表!$Q$5+F33*単価表!$Q$6+G33*単価表!$Q$7+H33*単価表!$Q$8,2) -> 0 | V33: =ROUND($D33*単価表!$F$27,2) -> 0 | W33: =ROUNDDOWN($D33*単価表!$G$27,0) -> 0 | X33: =ROUNDDOWN(SUM(T33:W33),0) -> 0
C34: =単価表!$E$28 -> 12月 | D34: =電気料金シミュレーション!$C$30 -> 0 | E34: =IF(D34<120,D34,120) -> 0 | F34: =IF(D34<120,0,IF(D34>300,180,D34-120)) -> 0 | G34: =IF(D34<300,0,IF(D34>400,100,D34-300)) -> 0 | H34: =IF(D34<400,0,D34-400) -> 0 | I34: =ROUND(IF(D34=0,電気料金シミュレーション!$C$11*単価表!$H$4/2,電気料金シミュレーション!$C$11*単価表!$H$4),2) -> 0 | J34: =ROUND(E34*単価表!$H$5+F34*単価表!$H$6+G34*単価表!$H$7+H34*単価表!$H$8,2) -> 0 | K34: =ROUND(D34*単価表!$F$28,2) -> 0 | L34: =ROUNDDOWN(D34*単価表!$G$28,0) -> 0 | M34: =ROUNDDOWN(SUM(I34:L34),0) -> 0 | N34: =ROUND(IF(D34=0,電気料金シミュレーション!$C$11*単価表!$I$4/2,電気料金シミュレーション!$C$11*単価表!$I$4),2) -> 0 | O34: =ROUND(E34*単価表!$I$5+F34*単価表!$I$6+G34*単価表!$I$7+H34*単価表!$I$8,2) -> 0 | P34: =ROUND(D34*単価表!$F$28,2) -> 0 | Q34: =ROUNDDOWN(D34*単価表!$G$28,0) -> 0 | R34: =ROUNDDOWN(SUM(N34:Q34),0) -> 0 | S34: =R34-M34 -> 0 | T34: =ROUND(IF(D34=0,電気料金シミュレーション!$C$11*単価表!$Q$4/2,電気料金シミュレーション!$C$11*単価表!$Q$4),2) -> 0 | U34: =ROUND(E34*単価表!$Q$5+F34*単価表!$Q$6+G34*単価表!$Q$7+H34*単価表!$Q$8,2) -> 0 | V34: =ROUND($D34*単価表!$F$28,2) -> 0 | W34: =ROUNDDOWN($D34*単価表!$G$28,0) -> 0 | X34: =ROUNDDOWN(SUM(T34:W34),0) -> 0
C35: 計 | D35: =SUM(D23:D34) -> 0 | E35: =SUM(E23:E34) -> 0 | F35: =SUM(F23:F34) -> 0 | G35: =SUM(G23:G34) -> 0 | H35: =SUM(H23:H34) -> 0 | I35: =SUM(I23:I34) -> 0 | J35: =SUM(J23:J34) -> 0 | K35: =SUM(K23:K34) -> 0 | L35: =SUM(L23:L34) -> 0 | M35: =ROUNDDOWN(SUM(I35:L35),0) -> 0 | N35: =SUM(N23:N34) -> 0 | O35: =SUM(O23:O34) -> 0 | P35: =SUM(P23:P34) -> 0 | Q35: =SUM(Q23:Q34) -> 0 | R35: =ROUNDDOWN(SUM(N35:Q35),0) -> 0 | S35: =R35-M35 -> 0 | T35: =SUM(T23:T34) -> 0 | U35: =SUM(U23:U34) -> 0 | V35: =SUM(V23:V34) -> 0 | W35: =SUM(W23:W34) -> 0 | X35: =ROUNDDOWN(SUM(T35:W35),0) -> 0
C38: 使用年月 | D38: 使用量 | E38: 使用量内訳 | I38: 北陸電力 | T38: 東電EP[従量電灯C]
E39: 1段階 | F39: 2段階 | G39: 3段階 | H39: 4段階 | I39: 改定前 | N39: 11/1改定後 | S39: 影響額
I40: 基本料金 | J40: 使用量料金 | K40: 燃調 | L40: 再エネ | M40: 合計 | N40: 基本料金 | O40: 使用量料金 | P40: 燃調 | Q40: 再エネ | R40: 合計 | S40: 円 | T40: 基本料金 | U40: 使用量料金 | V40: 燃調 | W40: 再エネ | X40: 合計
B41: 北陸Bizかがやき契約 | C41: =単価表!$E$17 -> 11月 | D41: =電気料金シミュレーション!$C$19 -> 0 | E41: =IF(D41<120,D41,120) -> 0 | F41: =IF(D41<120,0,IF(D41>300,180,D41-120)) -> 0 | G41: =IF(D41<300,0,IF(D41>400,100,D41-300)) -> 0 | H41: =IF(D41<400,0,D41-400) -> 0 | I41: =ROUND(IF(D41=0,電気料金シミュレーション!$C$11*単価表!$J$4/2,電気料金シミュレーション!$C$11*単価表!$J$4),2) -> 0 | J41: =ROUND(E41*単価表!$J$5+F41*単価表!$J$6+G41*単価表!$J$7+H41*単価表!$J$8,2) -> 0 | K41: =ROUND(D41*単価表!$F$17,2) -> 0 | L41: =ROUNDDOWN(D41*単価表!$G$17,0) -> 0 | M41: =ROUNDDOWN(SUM(I41:L41),0) -> 0 | N41: =ROUND(IF(D41=0,電気料金シミュレーション!$C$11*単価表!$K$4/2,電気料金シミュレーション!$C$11*単価表!$K$4),2) -> 0 | O41: =ROUND(E41*単価表!$K$5+F41*単価表!$K$6+G41*単価表!$K$7+H41*単価表!$K$8,2) -> 0 | P41: =ROUND(D41*単価表!$F$17,2) -> 0 | Q41: =ROUNDDOWN(D41*単価表!$G$17,0) -> 0 | R41: =ROUNDDOWN(SUM(N41:Q41),0) -> 0 | S41: =R41-M41 -> 0 | T41: =ROUND(IF(D41=0,電気料金シミュレーション!$C$11*単価表!$S$4/2,電気料金シミュレーション!$C$11*単価表!$S$4),2) -> 0 | U41: =ROUND(E41*単価表!$S$5+F41*単価表!$S$6+G41*単価表!$S$7+H41*単価表!$S$8,2) -> 0 | V41: =ROUND($D41*単価表!$F$17,2) -> 0 | W41: =ROUNDDOWN($D41*単価表!$G$17,0) -> 0 | X41: =ROUNDDOWN(SUM(T41:W41),0) -> 0
C42: =単価表!$E$18 -> 10月 | D42: =電気料金シミュレーション!$C$20 -> 0 | E42: =IF(D42<120,D42,120) -> 0 | F42: =IF(D42<120,0,IF(D42>300,180,D42-120)) -> 0 | G42: =IF(D42<300,0,IF(D42>400,100,D42-300)) -> 0 | H42: =IF(D42<400,0,D42-400) -> 0 | I42: =ROUND(IF(D42=0,電気料金シミュレーション!$C$11*単価表!$J$4/2,電気料金シミュレーション!$C$11*単価表!$J$4),2) -> 0 | J42: =ROUND(E42*単価表!$J$5+F42*単価表!$J$6+G42*単価表!$J$7+H42*単価表!$J$8,2) -> 0 | K42: =ROUND(D42*単価表!$F$18,2) -> 0 | L42: =ROUNDDOWN(D42*単価表!$G$18,0) -> 0 | M42: =ROUNDDOWN(SUM(I42:L42),0) -> 0 | N42: =ROUND(IF(D42=0,電気料金シミュレーション!$C$11*単価表!$K$4/2,電気料金シミュレーション!$C$11*単価表!$K$4),2) -> 0 | O42: =ROUND(E42*単価表!$K$5+F42*単価表!$K$6+G42*単価表!$K$7+H42*単価表!$K$8,2) -> 0 | P42: =ROUND(D42*単価表!$F$18,2) -> 0 | Q42: =ROUNDDOWN(D42*単価表!$G$18,0) -> 0 | R42: =ROUNDDOWN(SUM(N42:Q42),0) -> 0 | S42: =R42-M42 -> 0 | T42: =ROUND(IF(D42=0,電気料金シミュレーション!$C$11*単価表!$S$4/2,電気料金シミュレーション!$C$11*単価表!$S$4),2) -> 0 | U42: =ROUND(E42*単価表!$S$5+F42*単価表!$S$6+G42*単価表!$S$7+H42*単価表!$S$8,2) -> 0 | V42: =ROUND($D42*単価表!$F$18,2) -> 0 | W42: =ROUNDDOWN($D42*単価表!$G$18,0) -> 0 | X42: =ROUNDDOWN(SUM(T42:W42),0) -> 0
C43: =単価表!$E$19 -> ９月 | D43: =電気料金シミュレーション!$C$21 -> 0 | E43: =IF(D43<120,D43,120) -> 0 | F43: =IF(D43<120,0,IF(D43>300,180,D43-120)) -> 0 | G43: =IF(D43<300,0,IF(D43>400,100,D43-300)) -> 0 | H43: =IF(D43<400,0,D43-400) -> 0 | I43: =ROUND(IF(D43=0,電気料金シミュレーション!$C$11*単価表!$J$4/2,電気料金シミュレーション!$C$11*単価表!$J$4),2) -> 0 | J43: =ROUND(E43*単価表!$J$5+F43*単価表!$J$6+G43*単価表!$J$7+H43*単価表!$J$8,2) -> 0 | K43: =ROUND(D43*単価表!$F$19,2) -> 0 | L43: =ROUNDDOWN(D43*単価表!$G$19,0) -> 0 | M43: =ROUNDDOWN(SUM(I43:L43),0) -> 0 | N43: =ROUND(IF(D43=0,電気料金シミュレーション!$C$11*単価表!$K$4/2,電気料金シミュレーション!$C$11*単価表!$K$4),2) -> 0 | O43: =ROUND(E43*単価表!$K$5+F43*単価表!$K$6+G43*単価表!$K$7+H43*単価表!$K$8,2) -> 0 | P43: =ROUND(D43*単価表!$F$19,2) -> 0 | Q43: =ROUNDDOWN(D43*単価表!$G$19,0) -> 0 | R43: =ROUNDDOWN(SUM(N43:Q43),0) -> 0 | S43: =R43-M43 -> 0 | T43: =ROUND(IF(D43=0,電気料金シミュレーション!$C$11*単価表!$S$4/2,電気料金シミュレーション!$C$11*単価表!$S$4),2) -> 0 | U43: =ROUND(E43*単価表!$S$5+F43*単価表!$S$6+G43*単価表!$S$7+H43*単価表!$S$8,2) -> 0 | V43: =ROUND($D43*単価表!$F$19,2) -> 0 | W43: =ROUNDDOWN($D43*単価表!$G$19,0) -> 0 | X43: =ROUNDDOWN(SUM(T43:W43),0) -> 0
C44: =単価表!$E$20 -> ８月 | D44: =電気料金シミュレーション!$C$22 -> 0 | E44: =IF(D44<120,D44,120) -> 0 | F44: =IF(D44<120,0,IF(D44>300,180,D44-120)) -> 0 | G44: =IF(D44<300,0,IF(D44>400,100,D44-300)) -> 0 | H44: =IF(D44<400,0,D44-400) -> 0 | I44: =ROUND(IF(D44=0,電気料金シミュレーション!$C$11*単価表!$J$4/2,電気料金シミュレーション!$C$11*単価表!$J$4),2) -> 0 | J44: =ROUND(E44*単価表!$J$5+F44*単価表!$J$6+G44*単価表!$J$7+H44*単価表!$J$8,2) -> 0 | K44: =ROUND(D44*単価表!$F$20,2) -> 0 | L44: =ROUNDDOWN(D44*単価表!$G$20,0) -> 0 | M44: =ROUNDDOWN(SUM(I44:L44),0) -> 0 | N44: =ROUND(IF(D44=0,電気料金シミュレーション!$C$11*単価表!$K$4/2,電気料金シミュレーション!$C$11*単価表!$K$4),2) -> 0 | O44: =ROUND(E44*単価表!$K$5+F44*単価表!$K$6+G44*単価表!$K$7+H44*単価表!$K$8,2) -> 0 | P44: =ROUND(D44*単価表!$F$20,2) -> 0 | Q44: =ROUNDDOWN(D44*単価表!$G$20,0) -> 0 | R44: =ROUNDDOWN(SUM(N44:Q44),0) -> 0 | S44: =R44-M44 -> 0 | T44: =ROUND(IF(D44=0,電気料金シミュレーション!$C$11*単価表!$S$4/2,電気料金シミュレーション!$C$11*単価表!$S$4),2) -> 0 | U44: =ROUND(E44*単価表!$S$5+F44*単価表!$S$6+G44*単価表!$S$7+H44*単価表!$S$8,2) -> 0 | V44: =ROUND($D44*単価表!$F$20,2) -> 0 | W44: =ROUNDDOWN($D44*単価表!$G$20,0) -> 0 | X44: =ROUNDDOWN(SUM(T44:W44),0) -> 0
C45: =単価表!$E$21 -> ７月 | D45: =電気料金シミュレーション!$C$23 -> 0 | E45: =IF(D45<120,D45,120) -> 0 | F45: =IF(D45<120,0,IF(D45>300,180,D45-120)) -> 0 | G45: =IF(D45<300,0,IF(D45>400,100,D45-300)) -> 0 | H45: =IF(D45<400,0,D45-400) -> 0 | I45: =ROUND(IF(D45=0,電気料金シミュレーション!$C$11*単価表!$J$4/2,電気料金シミュレーション!$C$11*単価表!$J$4),2) -> 0 | J45: =ROUND(E45*単価表!$J$5+F45*単価表!$J$6+G45*単価表!$J$7+H45*単価表!$J$8,2) -> 0 | K45: =ROUND(D45*単価表!$F$21,2) -> 0 | L45: =ROUNDDOWN(D45*単価表!$G$21,0) -> 0 | M45: =ROUNDDOWN(SUM(I45:L45),0) -> 0 | N45: =ROUND(IF(D45=0,電気料金シミュレーション!$C$11*単価表!$K$4/2,電気料金シミュレーション!$C$11*単価表!$K$4),2) -> 0 | O45: =ROUND(E45*単価表!$K$5+F45*単価表!$K$6+G45*単価表!$K$7+H45*単価表!$K$8,2) -> 0 | P45: =ROUND(D45*単価表!$F$21,2) -> 0 | Q45: =ROUNDDOWN(D45*単価表!$G$21,0) -> 0 | R45: =ROUNDDOWN(SUM(N45:Q45),0) -> 0 | S45: =R45-M45 -> 0 | T45: =ROUND(IF(D45=0,電気料金シミュレーション!$C$11*単価表!$S$4/2,電気料金シミュレーション!$C$11*単価表!$S$4),2) -> 0 | U45: =ROUND(E45*単価表!$S$5+F45*単価表!$S$6+G45*単価表!$S$7+H45*単価表!$S$8,2) -> 0 | V45: =ROUND($D45*単価表!$F$21,2) -> 0 | W45: =ROUNDDOWN($D45*単価表!$G$21,0) -> 0 | X45: =ROUNDDOWN(SUM(T45:W45),0) -> 0
C46: =単価表!$E$22 -> ６月 | D46: =電気料金シミュレーション!$C$24 -> 0 | E46: =IF(D46<120,D46,120) -> 0 | F46: =IF(D46<120,0,IF(D46>300,180,D46-120)) -> 0 | G46: =IF(D46<300,0,IF(D46>400,100,D46-300)) -> 0 | H46: =IF(D46<400,0,D46-400) -> 0 | I46: =ROUND(IF(D46=0,電気料金シミュレーション!$C$11*単価表!$J$4/2,電気料金シミュレーション!$C$11*単価表!$J$4),2) -> 0 | J46: =ROUND(E46*単価表!$J$5+F46*単価表!$J$6+G46*単価表!$J$7+H46*単価表!$J$8,2) -> 0 | K46: =ROUND(D46*単価表!$F$22,2) -> 0 | L46: =ROUNDDOWN(D46*単価表!$G$22,0) -> 0 | M46: =ROUNDDOWN(SUM(I46:L46),0) -> 0 | N46: =ROUND(IF(D46=0,電気料金シミュレーション!$C$11*単価表!$K$4/2,電気料金シミュレーション!$C$11*単価表!$K$4),2) -> 0 | O46: =ROUND(E46*単価表!$K$5+F46*単価表!$K$6+G46*単価表!$K$7+H46*単価表!$K$8,2) -> 0 | P46: =ROUND(D46*単価表!$F$22,2) -> 0 | Q46: =ROUNDDOWN(D46*単価表!$G$22,0) -> 0 | R46: =ROUNDDOWN(SUM(N46:Q46),0) -> 0 | S46: =R46-M46 -> 0 | T46: =ROUND(IF(D46=0,電気料金シミュレーション!$C$11*単価表!$S$4/2,電気料金シミュレーション!$C$11*単価表!$S$4),2) -> 0 | U46: =ROUND(E46*単価表!$S$5+F46*単価表!$S$6+G46*単価表!$S$7+H46*単価表!$S$8,2) -> 0 | V46: =ROUND($D46*単価表!$F$22,2) -> 0 | W46: =ROUNDDOWN($D46*単価表!$G$22,0) -> 0 | X46: =ROUNDDOWN(SUM(T46:W46),0) -> 0
C47: =単価表!$E$23 -> ５月 | D47: =電気料金シミュレーション!$C$25 -> 0 | E47: =IF(D47<120,D47,120) -> 0 | F47: =IF(D47<120,0,IF(D47>300,180,D47-120)) -> 0 | G47: =IF(D47<300,0,IF(D47>400,100,D47-300)) -> 0 | H47: =IF(D47<400,0,D47-400) -> 0 | I47: =ROUND(IF(D47=0,電気料金シミュレーション!$C$11*単価表!$J$4/2,電気料金シミュレーション!$C$11*単価表!$J$4),2) -> 0 | J47: =ROUND(E47*単価表!$J$5+F47*単価表!$J$6+G47*単価表!$J$7+H47*単価表!$J$8,2) -> 0 | K47: =ROUND(D47*単価表!$F$23,2) -> 0 | L47: =ROUNDDOWN(D47*単価表!$G$23,0) -> 0 | M47: =ROUNDDOWN(SUM(I47:L47),0) -> 0 | N47: =ROUND(IF(D47=0,電気料金シミュレーション!$C$11*単価表!$K$4/2,電気料金シミュレーション!$C$11*単価表!$K$4),2) -> 0 | O47: =ROUND(E47*単価表!$K$5+F47*単価表!$K$6+G47*単価表!$K$7+H47*単価表!$K$8,2) -> 0 | P47: =ROUND(D47*単価表!$F$23,2) -> 0 | Q47: =ROUNDDOWN(D47*単価表!$G$23,0) -> 0 | R47: =ROUNDDOWN(SUM(N47:Q47),0) -> 0 | S47: =R47-M47 -> 0 | T47: =ROUND(IF(D47=0,電気料金シミュレーション!$C$11*単価表!$S$4/2,電気料金シミュレーション!$C$11*単価表!$S$4),2) -> 0 | U47: =ROUND(E47*単価表!$S$5+F47*単価表!$S$6+G47*単価表!$S$7+H47*単価表!$S$8,2) -> 0 | V47: =ROUND($D47*単価表!$F$23,2) -> 0 | W47: =ROUNDDOWN($D47*単価表!$G$23,0) -> 0 | X47: =ROUNDDOWN(SUM(T47:W47),0) -> 0
C48: =単価表!$E$24 -> ４月 | D48: =電気料金シミュレーション!$C$26 -> 0 | E48: =IF(D48<120,D48,120) -> 0 | F48: =IF(D48<120,0,IF(D48>300,180,D48-120)) -> 0 | G48: =IF(D48<300,0,IF(D48>400,100,D48-300)) -> 0 | H48: =IF(D48<400,0,D48-400) -> 0 | I48: =ROUND(IF(D48=0,電気料金シミュレーション!$C$11*単価表!$J$4/2,電気料金シミュレーション!$C$11*単価表!$J$4),2) -> 0 | J48: =ROUND(E48*単価表!$J$5+F48*単価表!$J$6+G48*単価表!$J$7+H48*単価表!$J$8,2) -> 0 | K48: =ROUND(D48*単価表!$F$24,2) -> 0 | L48: =ROUNDDOWN(D48*単価表!$G$24,0) -> 0 | M48: =ROUNDDOWN(SUM(I48:L48),0) -> 0 | N48: =ROUND(IF(D48=0,電気料金シミュレーション!$C$11*単価表!$K$4/2,電気料金シミュレーション!$C$11*単価表!$K$4),2) -> 0 | O48: =ROUND(E48*単価表!$K$5+F48*単価表!$K$6+G48*単価表!$K$7+H48*単価表!$K$8,2) -> 0 | P48: =ROUND(D48*単価表!$F$24,2) -> 0 | Q48: =ROUNDDOWN(D48*単価表!$G$24,0) -> 0 | R48: =ROUNDDOWN(SUM(N48:Q48),0) -> 0 | S48: =R48-M48 -> 0 | T48: =ROUND(IF(D48=0,電気料金シミュレーション!$C$11*単価表!$S$4/2,電気料金シミュレーション!$C$11*単価表!$S$4),2) -> 0 | U48: =ROUND(E48*単価表!$S$5+F48*単価表!$S$6+G48*単価表!$S$7+H48*単価表!$S$8,2) -> 0 | V48: =ROUND($D48*単価表!$F$24,2) -> 0 | W48: =ROUNDDOWN($D48*単価表!$G$24,0) -> 0 | X48: =ROUNDDOWN(SUM(T48:W48),0) -> 0
C49: =単価表!$E$25 -> ３月 | D49: =電気料金シミュレーション!$C$27 -> 0 | E49: =IF(D49<120,D49,120) -> 0 | F49: =IF(D49<120,0,IF(D49>300,180,D49-120)) -> 0 | G49: =IF(D49<300,0,IF(D49>400,100,D49-300)) -> 0 | H49: =IF(D49<400,0,D49-400) -> 0 | I49: =ROUND(IF(D49=0,電気料金シミュレーション!$C$11*単価表!$J$4/2,電気料金シミュレーション!$C$11*単価表!$J$4),2) -> 0 | J49: =ROUND(E49*単価表!$J$5+F49*単価表!$J$6+G49*単価表!$J$7+H49*単価表!$J$8,2) -> 0 | K49: =ROUND(D49*単価表!$F$25,2) -> 0 | L49: =ROUNDDOWN(D49*単価表!$G$25,0) -> 0 | M49: =ROUNDDOWN(SUM(I49:L49),0) -> 0 | N49: =ROUND(IF(D49=0,電気料金シミュレーション!$C$11*単価表!$K$4/2,電気料金シミュレーション!$C$11*単価表!$K$4),2) -> 0 | O49: =ROUND(E49*単価表!$K$5+F49*単価表!$K$6+G49*単価表!$K$7+H49*単価表!$K$8,2) -> 0 | P49: =ROUND(D49*単価表!$F$25,2) -> 0 | Q49: =ROUNDDOWN(D49*単価表!$G$25,0) -> 0 | R49: =ROUNDDOWN(SUM(N49:Q49),0) -> 0 | S49: =R49-M49 -> 0 | T49: =ROUND(IF(D49=0,電気料金シミュレーション!$C$11*単価表!$S$4/2,電気料金シミュレーション!$C$11*単価表!$S$4),2) -> 0 | U49: =ROUND(E49*単価表!$S$5+F49*単価表!$S$6+G49*単価表!$S$7+H49*単価表!$S$8,2) -> 0 | V49: =ROUND($D49*単価表!$F$25,2) -> 0 | W49: =ROUNDDOWN($D49*単価表!$G$25,0) -> 0 | X49: =ROUNDDOWN(SUM(T49:W49),0) -> 0
C50: =単価表!$E$26 -> ２月 | D50: =電気料金シミュレーション!$C$28 -> 0 | E50: =IF(D50<120,D50,120) -> 0 | F50: =IF(D50<120,0,IF(D50>300,180,D50-120)) -> 0 | G50: =IF(D50<300,0,IF(D50>400,100,D50-300)) -> 0 | H50: =IF(D50<400,0,D50-400) -> 0 | I50: =ROUND(IF(D50=0,電気料金シミュレーション!$C$11*単価表!$J$4/2,電気料金シミュレーション!$C$11*単価表!$J$4),2) -> 0 | J50: =ROUND(E50*単価表!$J$5+F50*単価表!$J$6+G50*単価表!$J$7+H50*単価表!$J$8,2) -> 0 | K50: =ROUND(D50*単価表!$F$26,2) -> 0 | L50: =ROUNDDOWN(D50*単価表!$G$26,0) -> 0 | M50: =ROUNDDOWN(SUM(I50:L50),0) -> 0 | N50: =ROUND(IF(D50=0,電気料金シミュレーション!$C$11*単価表!$K$4/2,電気料金シミュレーション!$C$11*単価表!$K$4),2) -> 0 | O50: =ROUND(E50*単価表!$K$5+F50*単価表!$K$6+G50*単価表!$K$7+H50*単価表!$K$8,2) -> 0 | P50: =ROUND(D50*単価表!$F$26,2) -> 0 | Q50: =ROUNDDOWN(D50*単価表!$G$26,0) -> 0 | R50: =ROUNDDOWN(SUM(N50:Q50),0) -> 0 | S50: =R50-M50 -> 0 | T50: =ROUND(IF(D50=0,電気料金シミュレーション!$C$11*単価表!$S$4/2,電気料金シミュレーション!$C$11*単価表!$S$4),2) -> 0 | U50: =ROUND(E50*単価表!$S$5+F50*単価表!$S$6+G50*単価表!$S$7+H50*単価表!$S$8,2) -> 0 | V50: =ROUND($D50*単価表!$F$26,2) -> 0 | W50: =ROUNDDOWN($D50*単価表!$G$26,0) -> 0 | X50: =ROUNDDOWN(SUM(T50:W50),0) -> 0
C51: =単価表!$E$27 -> １月 | D51: =電気料金シミュレーション!$C$29 -> 0 | E51: =IF(D51<120,D51,120) -> 0 | F51: =IF(D51<120,0,IF(D51>300,180,D51-120)) -> 0 | G51: =IF(D51<300,0,IF(D51>400,100,D51-300)) -> 0 | H51: =IF(D51<400,0,D51-400) -> 0 | I51: =ROUND(IF(D51=0,電気料金シミュレーション!$C$11*単価表!$J$4/2,電気料金シミュレーション!$C$11*単価表!$J$4),2) -> 0 | J51: =ROUND(E51*単価表!$J$5+F51*単価表!$J$6+G51*単価表!$J$7+H51*単価表!$J$8,2) -> 0 | K51: =ROUND(D51*単価表!$F$27,2) -> 0 | L51: =ROUNDDOWN(D51*単価表!$G$27,0) -> 0 | M51: =ROUNDDOWN(SUM(I51:L51),0) -> 0 | N51: =ROUND(IF(D51=0,電気料金シミュレーション!$C$11*単価表!$K$4/2,電気料金シミュレーション!$C$11*単価表!$K$4),2) -> 0 | O51: =ROUND(E51*単価表!$K$5+F51*単価表!$K$6+G51*単価表!$K$7+H51*単価表!$K$8,2) -> 0 | P51: =ROUND(D51*単価表!$F$27,2) -> 0 | Q51: =ROUNDDOWN(D51*単価表!$G$27,0) -> 0 | R51: =ROUNDDOWN(SUM(N51:Q51),0) -> 0 | S51: =R51-M51 -> 0 | T51: =ROUND(IF(D51=0,電気料金シミュレーション!$C$11*単価表!$S$4/2,電気料金シミュレーション!$C$11*単価表!$S$4),2) -> 0 | U51: =ROUND(E51*単価表!$S$5+F51*単価表!$S$6+G51*単価表!$S$7+H51*単価表!$S$8,2) -> 0 | V51: =ROUND($D51*単価表!$F$27,2) -> 0 | W51: =ROUNDDOWN($D51*単価表!$G$27,0) -> 0 | X51: =ROUNDDOWN(SUM(T51:W51),0) -> 0
C52: =単価表!$E$28 -> 12月 | D52: =電気料金シミュレーション!$C$30 -> 0 | E52: =IF(D52<120,D52,120) -> 0 | F52: =IF(D52<120,0,IF(D52>300,180,D52-120)) -> 0 | G52: =IF(D52<300,0,IF(D52>400,100,D52-300)) -> 0 | H52: =IF(D52<400,0,D52-400) -> 0 | I52: =ROUND(IF(D52=0,電気料金シミュレーション!$C$11*単価表!$J$4/2,電気料金シミュレーション!$C$11*単価表!$J$4),2) -> 0 | J52: =ROUND(E52*単価表!$J$5+F52*単価表!$J$6+G52*単価表!$J$7+H52*単価表!$J$8,2) -> 0 | K52: =ROUND(D52*単価表!$F$28,2) -> 0 | L52: =ROUNDDOWN(D52*単価表!$G$28,0) -> 0 | M52: =ROUNDDOWN(SUM(I52:L52),0) -> 0 | N52: =ROUND(IF(D52=0,電気料金シミュレーション!$C$11*単価表!$K$4/2,電気料金シミュレーション!$C$11*単価表!$K$4),2) -> 0 | O52: =ROUND(E52*単価表!$K$5+F52*単価表!$K$6+G52*単価表!$K$7+H52*単価表!$K$8,2) -> 0 | P52: =ROUND(D52*単価表!$F$28,2) -> 0 | Q52: =ROUNDDOWN(D52*単価表!$G$28,0) -> 0 | R52: =ROUNDDOWN(SUM(N52:Q52),0) -> 0 | S52: =R52-M52 -> 0 | T52: =ROUND(IF(D52=0,電気料金シミュレーション!$C$11*単価表!$S$4/2,電気料金シミュレーション!$C$11*単価表!$S$4),2) -> 0 | U52: =ROUND(E52*単価表!$S$5+F52*単価表!$S$6+G52*単価表!$S$7+H52*単価表!$S$8,2) -> 0 | V52: =ROUND($D52*単価表!$F$28,2) -> 0 | W52: =ROUNDDOWN($D52*単価表!$G$28,0) -> 0 | X52: =ROUNDDOWN(SUM(T52:W52),0) -> 0
C53: 計 | D53: =SUM(D41:D52) -> 0 | E53: =SUM(E41:E52) -> 0 | F53: =SUM(F41:F52) -> 0 | G53: =SUM(G41:G52) -> 0 | H53: =SUM(H41:H52) -> 0 | I53: =SUM(I41:I52) -> 0 | J53: =SUM(J41:J52) -> 0 | K53: =SUM(K41:K52) -> 0 | L53: =SUM(L41:L52) -> 0 | M53: =ROUNDDOWN(SUM(I53:L53),0) -> 0 | N53: =SUM(N41:N52) -> 0 | O53: =SUM(O41:O52) -> 0 | P53: =SUM(P41:P52) -> 0 | Q53: =SUM(Q41:Q52) -> 0 | R53: =ROUNDDOWN(SUM(N53:Q53),0) -> 0 | S53: =R53-M53 -> 0 | T53: =SUM(T41:T52) -> 0 | U53: =SUM(U41:U52) -> 0 | V53: =SUM(V41:V52) -> 0 | W53: =SUM(W41:W52) -> 0 | X53: =ROUNDDOWN(SUM(T53:W53),0) -> 0
C56: 使用年月 | D56: 使用量 | E56: 使用量内訳 | I56: 北陸電力 | T56: 東電EP[低圧電力]
E57: 1段階 | F57: 2段階 | G57: 3段階 | H57: 4段階 | I57: 改定前 | N57: 11/1改定後 | S57: 影響額
I58: 基本料金 | J58: 使用量料金 | K58: 燃調 | L58: 再エネ | M58: 合計 | N58: 基本料金 | O58: 使用量料金 | P58: 燃調 | Q58: 再エネ | R58: 合計 | S58: 円 | T58: 基本料金 | U58: 使用量料金 | V58: 燃調 | W58: 再エネ | X58: 合計
B59: 低圧電力 | C59: =単価表!$E$17 -> 11月 | D59: =電気料金シミュレーション!$C$19 -> 0 | E59: =IF(D59<120,D59,120) -> 0 | F59: =IF(D59<120,0,IF(D59>300,180,D59-120)) -> 0 | G59: =IF(D59<300,0,IF(D59>400,100,D59-300)) -> 0 | H59: =IF(D59<400,0,D59-400) -> 0 | I59: =ROUND(IF(D59=0,電気料金シミュレーション!$C$11*単価表!$F$12/2,電気料金シミュレーション!$C$11*単価表!$F$12),2) -> 0 | J59: =ROUND($D59*単価表!$F$14,2) -> 0 | K59: =ROUND(D59*単価表!$F$17,2) -> 0 | L59: =ROUNDDOWN(D59*単価表!$G$17,0) -> 0 | M59: =ROUNDDOWN(SUM(I59:L59),0) -> 0 | N59: =ROUND(IF(D59=0,電気料金シミュレーション!$C$11*単価表!$G$12/2,電気料金シミュレーション!$C$11*単価表!$G$12),2) -> 0 | O59: =ROUND($D59*単価表!$G$14,2) -> 0 | P59: =ROUND(D59*単価表!$F$17,2) -> 0 | Q59: =ROUNDDOWN(D59*単価表!$G$17,0) -> 0 | R59: =ROUNDDOWN(SUM(N59:Q59),0) -> 0 | S59: =R59-M59 -> 0 | T59: =ROUND(IF(D59=0,電気料金シミュレーション!$C$11*単価表!$M$12/2,電気料金シミュレーション!$C$11*単価表!$M$12),2) -> 0 | U59: =ROUND($D59*単価表!$M$14,2) -> 0 | V59: =ROUND($D59*単価表!$F$17,2) -> 0 | W59: =ROUNDDOWN($D59*単価表!$G$17,0) -> 0 | X59: =ROUNDDOWN(SUM(T59:W59),0) -> 0
C60: =単価表!$E$18 -> 10月 | D60: =電気料金シミュレーション!$C$20 -> 0 | E60: =IF(D60<120,D60,120) -> 0 | F60: =IF(D60<120,0,IF(D60>300,180,D60-120)) -> 0 | G60: =IF(D60<300,0,IF(D60>400,100,D60-300)) -> 0 | H60: =IF(D60<400,0,D60-400) -> 0 | I60: =ROUND(IF(D60=0,電気料金シミュレーション!$C$11*単価表!$F$12/2,電気料金シミュレーション!$C$11*単価表!$F$12),2) -> 0 | J60: =ROUND($D60*単価表!$F$14,2) -> 0 | K60: =ROUND(D60*単価表!$F$18,2) -> 0 | L60: =ROUNDDOWN(D60*単価表!$G$18,0) -> 0 | M60: =ROUNDDOWN(SUM(I60:L60),0) -> 0 | N60: =ROUND(IF(D60=0,電気料金シミュレーション!$C$11*単価表!$G$12/2,電気料金シミュレーション!$C$11*単価表!$G$12),2) -> 0 | O60: =ROUND($D60*単価表!$G$14,2) -> 0 | P60: =ROUND(D60*単価表!$F$18,2) -> 0 | Q60: =ROUNDDOWN(D60*単価表!$G$18,0) -> 0 | R60: =ROUNDDOWN(SUM(N60:Q60),0) -> 0 | S60: =R60-M60 -> 0 | T60: =ROUND(IF(D60=0,電気料金シミュレーション!$C$11*単価表!$M$12/2,電気料金シミュレーション!$C$11*単価表!$M$12),2) -> 0 | U60: =ROUND($D60*単価表!$M$14,2) -> 0 | V60: =ROUND($D60*単価表!$F$18,2) -> 0 | W60: =ROUNDDOWN($D60*単価表!$G$18,0) -> 0 | X60: =ROUNDDOWN(SUM(T60:W60),0) -> 0
C61: =単価表!$E$19 -> ９月 | D61: =電気料金シミュレーション!$C$21 -> 0 | E61: =IF(D61<120,D61,120) -> 0 | F61: =IF(D61<120,0,IF(D61>300,180,D61-120)) -> 0 | G61: =IF(D61<300,0,IF(D61>400,100,D61-300)) -> 0 | H61: =IF(D61<400,0,D61-400) -> 0 | I61: =ROUND(IF(D61=0,電気料金シミュレーション!$C$11*単価表!$F$12/2,電気料金シミュレーション!$C$11*単価表!$F$12),2) -> 0 | J61: =ROUND($D61*単価表!$F$13,2) -> 0 | K61: =ROUND(D61*単価表!$F$19,2) -> 0 | L61: =ROUNDDOWN(D61*単価表!$G$19,0) -> 0 | M61: =ROUNDDOWN(SUM(I61:L61),0) -> 0 | N61: =ROUND(IF(D61=0,電気料金シミュレーション!$C$11*単価表!$G$12/2,電気料金シミュレーション!$C$11*単価表!$G$12),2) -> 0 | O61: =ROUND($D61*単価表!$G$13,2) -> 0 | P61: =ROUND(D61*単価表!$F$19,2) -> 0 | Q61: =ROUNDDOWN(D61*単価表!$G$19,0) -> 0 | R61: =ROUNDDOWN(SUM(N61:Q61),0) -> 0 | S61: =R61-M61 -> 0 | T61: =ROUND(IF(D61=0,電気料金シミュレーション!$C$11*単価表!$M$12/2,電気料金シミュレーション!$C$11*単価表!$M$12),2) -> 0 | U61: =ROUND($D61*単価表!$M$13,2) -> 0 | V61: =ROUND($D61*単価表!$F$19,2) -> 0 | W61: =ROUNDDOWN($D61*単価表!$G$19,0) -> 0 | X61: =ROUNDDOWN(SUM(T61:W61),0) -> 0
C62: =単価表!$E$20 -> ８月 | D62: =電気料金シミュレーション!$C$22 -> 0 | E62: =IF(D62<120,D62,120) -> 0 | F62: =IF(D62<120,0,IF(D62>300,180,D62-120)) -> 0 | G62: =IF(D62<300,0,IF(D62>400,100,D62-300)) -> 0 | H62: =IF(D62<400,0,D62-400) -> 0 | I62: =ROUND(IF(D62=0,電気料金シミュレーション!$C$11*単価表!$F$12/2,電気料金シミュレーション!$C$11*単価表!$F$12),2) -> 0 | J62: =ROUND($D62*単価表!$F$13,2) -> 0 | K62: =ROUND(D62*単価表!$F$20,2) -> 0 | L62: =ROUNDDOWN(D62*単価表!$G$20,0) -> 0 | M62: =ROUNDDOWN(SUM(I62:L62),0) -> 0 | N62: =ROUND(IF(D62=0,電気料金シミュレーション!$C$11*単価表!$G$12/2,電気料金シミュレーション!$C$11*単価表!$G$12),2) -> 0 | O62: =ROUND($D62*単価表!$G$13,2) -> 0 | P62: =ROUND(D62*単価表!$F$20,2) -> 0 | Q62: =ROUNDDOWN(D62*単価表!$G$20,0) -> 0 | R62: =ROUNDDOWN(SUM(N62:Q62),0) -> 0 | S62: =R62-M62 -> 0 | T62: =ROUND(IF(D62=0,電気料金シミュレーション!$C$11*単価表!$M$12/2,電気料金シミュレーション!$C$11*単価表!$M$12),2) -> 0 | U62: =ROUND($D62*単価表!$M$13,2) -> 0 | V62: =ROUND($D62*単価表!$F$20,2) -> 0 | W62: =ROUNDDOWN($D62*単価表!$G$20,0) -> 0 | X62: =ROUNDDOWN(SUM(T62:W62),0) -> 0
C63: =単価表!$E$21 -> ７月 | D63: =電気料金シミュレーション!$C$23 -> 0 | E63: =IF(D63<120,D63,120) -> 0 | F63: =IF(D63<120,0,IF(D63>300,180,D63-120)) -> 0 | G63: =IF(D63<300,0,IF(D63>400,100,D63-300)) -> 0 | H63: =IF(D63<400,0,D63-400) -> 0 | I63: =ROUND(IF(D63=0,電気料金シミュレーション!$C$11*単価表!$F$12/2,電気料金シミュレーション!$C$11*単価表!$F$12),2) -> 0 | J63: =ROUND($D63*単価表!$F$13,2) -> 0 | K63: =ROUND(D63*単価表!$F$21,2) -> 0 | L63: =ROUNDDOWN(D63*単価表!$G$21,0) -> 0 | M63: =ROUNDDOWN(SUM(I63:L63),0) -> 0 | N63: =ROUND(IF(D63=0,電気料金シミュレーション!$C$11*単価表!$G$12/2,電気料金シミュレーション!$C$11*単価表!$G$12),2) -> 0 | O63: =ROUND($D63*単価表!$G$13,2) -> 0 | P63: =ROUND(D63*単価表!$F$21,2) -> 0 | Q63: =ROUNDDOWN(D63*単価表!$G$21,0) -> 0 | R63: =ROUNDDOWN(SUM(N63:Q63),0) -> 0 | S63: =R63-M63 -> 0 | T63: =ROUND(IF(D63=0,電気料金シミュレーション!$C$11*単価表!$M$12/2,電気料金シミュレーション!$C$11*単価表!$M$12),2) -> 0 | U63: =ROUND($D63*単価表!$M$13,2) -> 0 | V63: =ROUND($D63*単価表!$F$21,2) -> 0 | W63: =ROUNDDOWN($D63*単価表!$G$21,0) -> 0 | X63: =ROUNDDOWN(SUM(T63:W63),0) -> 0
C64: =単価表!$E$22 -> ６月 | D64: =電気料金シミュレーション!$C$24 -> 0 | E64: =IF(D64<120,D64,120) -> 0 | F64: =IF(D64<120,0,IF(D64>300,180,D64-120)) -> 0 | G64: =IF(D64<300,0,IF(D64>400,100,D64-300)) -> 0 | H64: =IF(D64<400,0,D64-400) -> 0 | I64: =ROUND(IF(D64=0,電気料金シミュレーション!$C$11*単価表!$F$12/2,電気料金シミュレーション!$C$11*単価表!$F$12),2) -> 0 | J64: =ROUND($D64*単価表!$F$14,2) -> 0 | K64: =ROUND(D64*単価表!$F$22,2) -> 0 | L64: =ROUNDDOWN(D64*単価表!$G$22,0) -> 0 | M64: =ROUNDDOWN(SUM(I64:L64),0) -> 0 | N64: =ROUND(IF(D64=0,電気料金シミュレーション!$C$11*単価表!$G$12/2,電気料金シミュレーション!$C$11*単価表!$G$12),2) -> 0 | O64: =ROUND($D64*単価表!$G$14,2) -> 0 | P64: =ROUND(D64*単価表!$F$22,2) -> 0 | Q64: =ROUNDDOWN(D64*単価表!$G$22,0) -> 0 | R64: =ROUNDDOWN(SUM(N64:Q64),0) -> 0 | S64: =R64-M64 -> 0 | T64: =ROUND(IF(D64=0,電気料金シミュレーション!$C$11*単価表!$M$12/2,電気料金シミュレーション!$C$11*単価表!$M$12),2) -> 0 | U64: =ROUND($D64*単価表!$M$14,2) -> 0 | V64: =ROUND($D64*単価表!$F$22,2) -> 0 | W64: =ROUNDDOWN($D64*単価表!$G$22,0) -> 0 | X64: =ROUNDDOWN(SUM(T64:W64),0) -> 0
C65: =単価表!$E$23 -> ５月 | D65: =電気料金シミュレーション!$C$25 -> 0 | E65: =IF(D65<120,D65,120) -> 0 | F65: =IF(D65<120,0,IF(D65>300,180,D65-120)) -> 0 | G65: =IF(D65<300,0,IF(D65>400,100,D65-300)) -> 0 | H65: =IF(D65<400,0,D65-400) -> 0 | I65: =ROUND(IF(D65=0,電気料金シミュレーション!$C$11*単価表!$F$12/2,電気料金シミュレーション!$C$11*単価表!$F$12),2) -> 0 | J65: =ROUND($D65*単価表!$F$14,2) -> 0 | K65: =ROUND(D65*単価表!$F$23,2) -> 0 | L65: =ROUNDDOWN(D65*単価表!$G$23,0) -> 0 | M65: =ROUNDDOWN(SUM(I65:L65),0) -> 0 | N65: =ROUND(IF(D65=0,電気料金シミュレーション!$C$11*単価表!$G$12/2,電気料金シミュレーション!$C$11*単価表!$G$12),2) -> 0 | O65: =ROUND($D65*単価表!$G$14,2) -> 0 | P65: =ROUND(D65*単価表!$F$23,2) -> 0 | Q65: =ROUNDDOWN(D65*単価表!$G$23,0) -> 0 | R65: =ROUNDDOWN(SUM(N65:Q65),0) -> 0 | S65: =R65-M65 -> 0 | T65: =ROUND(IF(D65=0,電気料金シミュレーション!$C$11*単価表!$M$12/2,電気料金シミュレーション!$C$11*単価表!$M$12),2) -> 0 | U65: =ROUND($D65*単価表!$M$14,2) -> 0 | V65: =ROUND($D65*単価表!$F$23,2) -> 0 | W65: =ROUNDDOWN($D65*単価表!$G$23,0) -> 0 | X65: =ROUNDDOWN(SUM(T65:W65),0) -> 0
C66: =単価表!$E$24 -> ４月 | D66: =電気料金シミュレーション!$C$26 -> 0 | E66: =IF(D66<120,D66,120) -> 0 | F66: =IF(D66<120,0,IF(D66>300,180,D66-120)) -> 0 | G66: =IF(D66<300,0,IF(D66>400,100,D66-300)) -> 0 | H66: =IF(D66<400,0,D66-400) -> 0 | I66: =ROUND(IF(D66=0,電気料金シミュレーション!$C$11*単価表!$F$12/2,電気料金シミュレーション!$C$11*単価表!$F$12),2) -> 0 | J66: =ROUND($D66*単価表!$F$14,2) -> 0 | K66: =ROUND(D66*単価表!$F$24,2) -> 0 | L66: =ROUNDDOWN(D66*単価表!$G$24,0) -> 0 | M66: =ROUNDDOWN(SUM(I66:L66),0) -> 0 | N66: =ROUND(IF(D66=0,電気料金シミュレーション!$C$11*単価表!$G$12/2,電気料金シミュレーション!$C$11*単価表!$G$12),2) -> 0 | O66: =ROUND($D66*単価表!$G$14,2) -> 0 | P66: =ROUND(D66*単価表!$F$24,2) -> 0 | Q66: =ROUNDDOWN(D66*単価表!$G$24,0) -> 0 | R66: =ROUNDDOWN(SUM(N66:Q66),0) -> 0 | S66: =R66-M66 -> 0 | T66: =ROUND(IF(D66=0,電気料金シミュレーション!$C$11*単価表!$M$12/2,電気料金シミュレーション!$C$11*単価表!$M$12),2) -> 0 | U66: =ROUND($D66*単価表!$M$14,2) -> 0 | V66: =ROUND($D66*単価表!$F$24,2) -> 0 | W66: =ROUNDDOWN($D66*単価表!$G$24,0) -> 0 | X66: =ROUNDDOWN(SUM(T66:W66),0) -> 0
C67: =単価表!$E$25 -> ３月 | D67: =電気料金シミュレーション!$C$27 -> 0 | E67: =IF(D67<120,D67,120) -> 0 | F67: =IF(D67<120,0,IF(D67>300,180,D67-120)) -> 0 | G67: =IF(D67<300,0,IF(D67>400,100,D67-300)) -> 0 | H67: =IF(D67<400,0,D67-400) -> 0 | I67: =ROUND(IF(D67=0,電気料金シミュレーション!$C$11*単価表!$F$12/2,電気料金シミュレーション!$C$11*単価表!$F$12),2) -> 0 | J67: =ROUND($D67*単価表!$F$14,2) -> 0 | K67: =ROUND(D67*単価表!$F$25,2) -> 0 | L67: =ROUNDDOWN(D67*単価表!$G$25,0) -> 0 | M67: =ROUNDDOWN(SUM(I67:L67),0) -> 0 | N67: =ROUND(IF(D67=0,電気料金シミュレーション!$C$11*単価表!$G$12/2,電気料金シミュレーション!$C$11*単価表!$G$12),2) -> 0 | O67: =ROUND($D67*単価表!$G$14,2) -> 0 | P67: =ROUND(D67*単価表!$F$25,2) -> 0 | Q67: =ROUNDDOWN(D67*単価表!$G$25,0) -> 0 | R67: =ROUNDDOWN(SUM(N67:Q67),0) -> 0 | S67: =R67-M67 -> 0 | T67: =ROUND(IF(D67=0,電気料金シミュレーション!$C$11*単価表!$M$12/2,電気料金シミュレーション!$C$11*単価表!$M$12),2) -> 0 | U67: =ROUND($D67*単価表!$M$14,2) -> 0 | V67: =ROUND($D67*単価表!$F$25,2) -> 0 | W67: =ROUNDDOWN($D67*単価表!$G$25,0) -> 0 | X67: =ROUNDDOWN(SUM(T67:W67),0) -> 0
C68: =単価表!$E$26 -> ２月 | D68: =電気料金シミュレーション!$C$28 -> 0 | E68: =IF(D68<120,D68,120) -> 0 | F68: =IF(D68<120,0,IF(D68>300,180,D68-120)) -> 0 | G68: =IF(D68<300,0,IF(D68>400,100,D68-300)) -> 0 | H68: =IF(D68<400,0,D68-400) -> 0 | I68: =ROUND(IF(D68=0,電気料金シミュレーション!$C$11*単価表!$F$12/2,電気料金シミュレーション!$C$11*単価表!$F$12),2) -> 0 | J68: =ROUND($D68*単価表!$F$14,2) -> 0 | K68: =ROUND(D68*単価表!$F$26,2) -> 0 | L68: =ROUNDDOWN(D68*単価表!$G$26,0) -> 0 | M68: =ROUNDDOWN(SUM(I68:L68),0) -> 0 | N68: =ROUND(IF(D68=0,電気料金シミュレーション!$C$11*単価表!$G$12/2,電気料金シミュレーション!$C$11*単価表!$G$12),2) -> 0 | O68: =ROUND($D68*単価表!$G$14,2) -> 0 | P68: =ROUND(D68*単価表!$F$26,2) -> 0 | Q68: =ROUNDDOWN(D68*単価表!$G$26,0) -> 0 | R68: =ROUNDDOWN(SUM(N68:Q68),0) -> 0 | S68: =R68-M68 -> 0 | T68: =ROUND(IF(D68=0,電気料金シミュレーション!$C$11*単価表!$M$12/2,電気料金シミュレーション!$C$11*単価表!$M$12),2) -> 0 | U68: =ROUND($D68*単価表!$M$14,2) -> 0 | V68: =ROUND($D68*単価表!$F$26,2) -> 0 | W68: =ROUNDDOWN($D68*単価表!$G$26,0) -> 0 | X68: =ROUNDDOWN(SUM(T68:W68),0) -> 0
C69: =単価表!$E$27 -> １月 | D69: =電気料金シミュレーション!$C$29 -> 0 | E69: =IF(D69<120,D69,120) -> 0 | F69: =IF(D69<120,0,IF(D69>300,180,D69-120)) -> 0 | G69: =IF(D69<300,0,IF(D69>400,100,D69-300)) -> 0 | H69: =IF(D69<400,0,D69-400) -> 0 | I69: =ROUND(IF(D69=0,電気料金シミュレーション!$C$11*単価表!$F$12/2,電気料金シミュレーション!$C$11*単価表!$F$12),2) -> 0 | J69: =ROUND($D69*単価表!$F$14,2) -> 0 | K69: =ROUND(D69*単価表!$F$27,2) -> 0 | L69: =ROUNDDOWN(D69*単価表!$G$27,0) -> 0 | M69: =ROUNDDOWN(SUM(I69:L69),0) -> 0 | N69: =ROUND(IF(D69=0,電気料金シミュレーション!$C$11*単価表!$G$12/2,電気料金シミュレーション!$C$11*単価表!$G$12),2) -> 0 | O69: =ROUND($D69*単価表!$G$14,2) -> 0 | P69: =ROUND(D69*単価表!$F$27,2) -> 0 | Q69: =ROUNDDOWN(D69*単価表!$G$27,0) -> 0 | R69: =ROUNDDOWN(SUM(N69:Q69),0) -> 0 | S69: =R69-M69 -> 0 | T69: =ROUND(IF(D69=0,電気料金シミュレーション!$C$11*単価表!$M$12/2,電気料金シミュレーション!$C$11*単価表!$M$12),2) -> 0 | U69: =ROUND($D69*単価表!$M$14,2) -> 0 | V69: =ROUND($D69*単価表!$F$27,2) -> 0 | W69: =ROUNDDOWN($D69*単価表!$G$27,0) -> 0 | X69: =ROUNDDOWN(SUM(T69:W69),0) -> 0
C70: =単価表!$E$28 -> 12月 | D70: =電気料金シミュレーション!$C$30 -> 0 | E70: =IF(D70<120,D70,120) -> 0 | F70: =IF(D70<120,0,IF(D70>300,180,D70-120)) -> 0 | G70: =IF(D70<300,0,IF(D70>400,100,D70-300)) -> 0 | H70: =IF(D70<400,0,D70-400) -> 0 | I70: =ROUND(IF(D70=0,電気料金シミュレーション!$C$11*単価表!$F$12/2,電気料金シミュレーション!$C$11*単価表!$F$12),2) -> 0 | J70: =ROUND($D70*単価表!$F$14,2) -> 0 | K70: =ROUND(D70*単価表!$F$28,2) -> 0 | L70: =ROUNDDOWN(D70*単価表!$G$28,0) -> 0 | M70: =ROUNDDOWN(SUM(I70:L70),0) -> 0 | N70: =ROUND(IF(D70=0,電気料金シミュレーション!$C$11*単価表!$G$12/2,電気料金シミュレーション!$C$11*単価表!$G$12),2) -> 0 | O70: =ROUND($D70*単価表!$G$14,2) -> 0 | P70: =ROUND(D70*単価表!$F$28,2) -> 0 | Q70: =ROUNDDOWN(D70*単価表!$G$28,0) -> 0 | R70: =ROUNDDOWN(SUM(N70:Q70),0) -> 0 | S70: =R70-M70 -> 0 | T70: =ROUND(IF(D70=0,電気料金シミュレーション!$C$11*単価表!$M$12/2,電気料金シミュレーション!$C$11*単価表!$M$12),2) -> 0 | U70: =ROUND($D70*単価表!$M$14,2) -> 0 | V70: =ROUND($D70*単価表!$F$28,2) -> 0 | W70: =ROUNDDOWN($D70*単価表!$G$28,0) -> 0 | X70: =ROUNDDOWN(SUM(T70:W70),0) -> 0
C71: 計 | D71: =SUM(D59:D70) -> 0 | E71: =SUM(E59:E70) -> 0 | F71: =SUM(F59:F70) -> 0 | G71: =SUM(G59:G70) -> 0 | H71: =SUM(H59:H70) -> 0 | I71: =SUM(I59:I70) -> 0 | J71: =SUM(J59:J70) -> 0 | K71: =SUM(K59:K70) -> 0 | L71: =SUM(L59:L70) -> 0 | M71: =ROUNDDOWN(SUM(I71:L71),0) -> 0 | N71: =SUM(N59:N70) -> 0 | O71: =SUM(O59:O70) -> 0 | P71: =SUM(P59:P70) -> 0 | Q71: =SUM(Q59:Q70) -> 0 | R71: =ROUNDDOWN(SUM(N71:Q71),0) -> 0 | S71: =R71-M71 -> 0 | T71: =SUM(T59:T70) -> 0 | U71: =SUM(U59:U70) -> 0 | V71: =SUM(V59:V70) -> 0 | W71: =SUM(W59:W70) -> 0 | X71: =ROUNDDOWN(SUM(T71:W71),0) -> 0
